BEGIN:VCALENDAR
VERSION:2.0
PRODID:-//ChamberMaster//Event Calendar 2.0//EN
METHOD:PUBLISH
X-PUBLISHED-TTL:P3D
REFRESH-INTERVAL:P3D
CALSCALE:GREGORIAN
BEGIN:VEVENT
DTSTART:20250921T000000Z
DTEND:20250921T020000Z
X-MICROSOFT-CDO-ALLDAYEVENT:FALSE
SUMMARY:Zeppelin Reimagined by Magical Mystery Doors
DESCRIPTION:Each show is a journey through Zeppelin's catalog\, reimagined with innovative arrangements\, electrifying energy\, and surprises that keep the audience riveted from start to finish.\n\nZeppelin Reimagined is not just another Led Zeppelin tribute band. They are a groundbreaking experience that merges the timeless power of classic rock with the cutting-edge technology of today. With a dynamic stage presence\, LED screens\, and a visual spectacle that complements their sound\, Zeppelin Reimagined offers a fresh take on the iconic music of Led Zeppelin. Their performances are a perfect blend of the old and the new\, honoring the legendary hits while introducing unexpected twists and modern interpretations.\n\n \n\nWhether it's a new spin on a beloved classic or a visual display that brings the music to life in a whole new way\, Zeppelin Reimagined delivers an experience that is as exhilarating as it is nostalgic. This isn't just a tribute\; it's a reinvention\, a celebration of Led Zeppelin's legacy for die-hard fans\, and a powerful introduction for a whole new generation.
X-ALT-DESC;FMTTYPE=text/html:<p>Each show is a journey through Zeppelin&#39\;s catalog\, reimagined with innovative arrangements\, electrifying energy\, and surprises that keep the audience riveted from start to finish.</p>\n\n<div>Zeppelin Reimagined is not just another Led Zeppelin tribute band. They are a groundbreaking experience that merges the timeless power of classic rock with the cutting-edge technology of today. With a dynamic stage presence\, LED screens\, and a visual spectacle that complements their sound\, Zeppelin Reimagined offers a fresh take on the iconic music of Led Zeppelin. Their performances are a perfect blend of the old and the new\, honoring the legendary hits while introducing unexpected twists and modern interpretations.</div>\n\n<div>&nbsp\;</div>\n\n<div>Whether it&rsquo\;s a new spin on a beloved classic or a visual display that brings the music to life in a whole new way\, Zeppelin Reimagined delivers an experience that is as exhilarating as it is nostalgic. This isn&rsquo\;t just a tribute\; it&rsquo\;s a reinvention\, a celebration of Led Zeppelin&rsquo\;s legacy for die-hard fans\, and a powerful introduction for a whole new generation.</div>\n
LOCATION:The Cabot 286 Cabot St Beverly\, MA 01915
UID:e.2981.43025
SEQUENCE:3
DTSTAMP:20260425T011233Z
URL:https://business.capeannchamber.com/events/details/zeppelin-reimagined-by-magical-mystery-doors-43025
END:VEVENT

END:VCALENDAR
