BEGIN:VCALENDAR
VERSION:2.0
PRODID:-//ChamberMaster//Event Calendar 2.0//EN
METHOD:PUBLISH
X-PUBLISHED-TTL:P3D
REFRESH-INTERVAL:P3D
CALSCALE:GREGORIAN
BEGIN:VEVENT
DTSTART:20241228T010000Z
DTEND:20241228T043000Z
X-MICROSOFT-CDO-ALLDAYEVENT:FALSE
SUMMARY:Zane Christopher
DESCRIPTION:12/27/24\n\nReserved Rails and G.A. Standing 8:00pm doors / 8:30pm show\n\n21+\, Positive I.D. Required $15-25\n\n\n\nZane Christopher is a 24-year-old singer-songwriter from New England. A coastal kid\, his music plays true to his roots. Zane got his start when he was 19 in Nantucket\, MA. After his shifts at a local restaurant\, he would play music for friends at bonfires on the beach. He released his debut single "Road Song" and garnered a surprisingly positive reaction from the masses. Since then\, Zane has put out 7 singles\, and is now working on his debut album Awaken slated for next year. A notable collaborator on his music is producer Jon Gilbert (Mt. Joy\, Oliver Hazard\, Flipturn\, Arcy Drive).
X-ALT-DESC;FMTTYPE=text/html:<span style="color:rgb(64\, 64\, 65)\; font-family:open sans\,sans-serif\; font-size:14px">12/27/24</span><br />\n<span style="color:rgb(64\, 64\, 65)\; font-family:open sans\,sans-serif\; font-size:14px">Reserved Rails and G.A. Standing 8:00pm doors / 8:30pm show</span><br />\n<span style="color:rgb(64\, 64\, 65)\; font-family:open sans\,sans-serif\; font-size:14px">21+\, Positive I.D. Required $15-25</span><br />\n<br />\n<span style="color:rgb(64\, 64\, 65)\; font-family:open sans\,sans-serif\; font-size:14px">Zane Christopher is a 24-year-old singer-songwriter from New England. A coastal kid\, his music plays true to his roots. Zane got his start when he was 19 in Nantucket\, MA. After his shifts at a local restaurant\, he would play music for friends at bonfires on the beach. He released his debut single &quot\;Road Song&quot\; and garnered a surprisingly positive reaction from the masses. Since then\, Zane has put out 7 singles\, and is now working on his debut album Awaken slated for next year. A notable collaborator on his music is producer Jon Gilbert (Mt. Joy\, Oliver Hazard\, Flipturn\, Arcy Drive).</span>
LOCATION:The Cut 177 Main Street Gloucester\, MA 01930
UID:e.2981.33253
SEQUENCE:3
DTSTAMP:20260424T152414Z
URL:https://business.capeannchamber.com/events/details/zane-christopher-33253
END:VEVENT

END:VCALENDAR
