BEGIN:VCALENDAR
VERSION:2.0
PRODID:-//ChamberMaster//Event Calendar 2.0//EN
METHOD:PUBLISH
X-PUBLISHED-TTL:P3D
REFRESH-INTERVAL:P3D
CALSCALE:GREGORIAN
BEGIN:VEVENT
DTSTART:20200904T110000Z
DTEND:20200904T120000Z
X-MICROSOFT-CDO-ALLDAYEVENT:FALSE
SUMMARY:Yoga on Plum Cove Beach
DESCRIPTION:An all levels yoga class on Plum Cove Beach each week with Treetop Yoga Instructor\, Abby Strauss-Malcolm. With sand beneath you\, a picturesque view and warm ocean breezes\, you will enjoy one hour of strengthening and lengthening your body while calming the mind.\n\n\n\nBring a towel or yoga mat and a bottle of water. Mats will be at least 6 feet apart to observe social distancing rules. Please sign up in advance since space is limited.\n\n\n\nWe ask that you practice all local and state guidelines for wearing a mask to come onto and to leave the beach\, however a mask is not required during the yoga class.
X-ALT-DESC;FMTTYPE=text/html:An all levels yoga class on Plum Cove Beach each week with Treetop Yoga Instructor\, Abby Strauss-Malcolm. With sand beneath you\, a picturesque view and warm ocean breezes\, you will enjoy one hour of strengthening and lengthening your body while calming the mind.<br />\n<br />\nBring a towel or yoga mat and a bottle of water. Mats will be at least 6 feet apart to observe social distancing rules. Please sign up in advance since space is limited.<br />\n<br />\nWe ask that you practice all local and state guidelines for wearing a mask to come onto and to leave the beach\, however a mask is not required during the yoga class.&nbsp\;<br />\n<br />\n&nbsp\;
LOCATION:Plum Cove Beach Washington St Gloucester\, MA 01930
UID:e.2981.19649
SEQUENCE:3
DTSTAMP:20260419T195133Z
URL:https://business.capeannchamber.com/events/details/yoga-on-plum-cove-beach-09-04-2020-19649
END:VEVENT

END:VCALENDAR
