BEGIN:VCALENDAR
VERSION:2.0
PRODID:-//ChamberMaster//Event Calendar 2.0//EN
METHOD:PUBLISH
X-PUBLISHED-TTL:P3D
REFRESH-INTERVAL:P3D
CALSCALE:GREGORIAN
BEGIN:VEVENT
DTSTART:20251217T233000Z
DTEND:20251218T010000Z
X-MICROSOFT-CDO-ALLDAYEVENT:FALSE
SUMMARY:Yin Yoga for the Winter Solstice
DESCRIPTION:As the longest night arrives & winter begins\, we're invited into stillness...\n\nJoin us at Revive for a grounding Seasonal Yin Yoga practice honoring the Winter Solstice a sacred pause in the turning of the year. In this slow\, nourishing practice:\n\n \n\n\n	Long-held yin postures and deep breathwork will support the body's water element\, hydrating fascia and lubricating the joints.\n	Class includes meditation\, essential oils\, and optional gentle Reiki or Polarity Therapy to help you soften into ease.\n	Ending with deep rest for 20 minutes in the salt cave
X-ALT-DESC;FMTTYPE=text/html:<p><span style="color:rgba(0\,0\,0\,var(--O42jJQ\,1))">As the longest night arrives &amp\; winter begins\, we&rsquo\;re invited into stillness...</span></p>\n\n<p><span style="color:rgba(0\,0\,0\,var(--O42jJQ\,1))">Join us at Revive for a grounding Seasonal Yin Yoga practice honoring the Winter Solstice&mdash\;</span><strong>a sacred pause</strong><span style="color:rgba(0\,0\,0\,var(--O42jJQ\,1))"> in the turning of the year. In this slow\, nourishing practice:</span></p>\n\n<p>&nbsp\;</p>\n\n<ul>\n	<li><strong>Long-held yin postures and deep breathwork</strong><span style="color:rgba(0\,0\,0\,var(--O42jJQ\,1))"> will support the body&rsquo\;s water element\, hydrating fascia and lubricating the joints.</span></li>\n	<li><span style="color:rgba(0\,0\,0\,var(--O42jJQ\,1))">Class includes </span><strong>meditation\, essential oils\, and optional gentle Reiki or Polarity Therapy</strong><span style="color:rgba(0\,0\,0\,var(--O42jJQ\,1))"> to help you soften into ease.</span></li>\n	<li><span style="color:rgba(0\,0\,0\,var(--O42jJQ\,1))">Ending with deep rest for 20 minutes in the</span><strong> salt cave</strong></li>\n</ul>\n
LOCATION:Revive Wellness 232 Main St.\, Gloucester\, MA 01930
UID:e.2981.45496
SEQUENCE:3
DTSTAMP:20260422T044919Z
URL:https://business.capeannchamber.com/events/details/yin-yoga-for-the-winter-solstice-45496
END:VEVENT

END:VCALENDAR
