BEGIN:VCALENDAR
VERSION:2.0
PRODID:-//ChamberMaster//Event Calendar 2.0//EN
METHOD:PUBLISH
X-PUBLISHED-TTL:P3D
REFRESH-INTERVAL:P3D
CALSCALE:GREGORIAN
BEGIN:VEVENT
DTSTART:20250821T210000Z
DTEND:20250822T003000Z
X-MICROSOFT-CDO-ALLDAYEVENT:FALSE
SUMMARY:Yacht Rock featuring Horizon and the Horns
DESCRIPTION:Enjoy live yacht rock and summer tunes as you relax and enjoy the ocean views! A great way to end our summer music series!
X-ALT-DESC;FMTTYPE=text/html:<span style="color:rgb(57\, 54\, 79)\; font-family:neue plak\,-apple-system\,blinkmacsystemfont\,roboto\,helvetica neue\,helvetica\,tahoma\,arial\,sans-serif\; font-size:14px">Enjoy live yacht rock and summer tunes as you relax and enjoy the ocean views! A great way to end our summer music series!</span>
LOCATION:Misselwood Events at Endicott College 407 Hale Street Beverly\, MA 01915
UID:e.2981.35007
SEQUENCE:3
DTSTAMP:20260424T235817Z
URL:https://business.capeannchamber.com/events/details/yacht-rock-featuring-horizon-and-the-horns-35007
END:VEVENT

END:VCALENDAR
