BEGIN:VCALENDAR
VERSION:2.0
PRODID:-//ChamberMaster//Event Calendar 2.0//EN
METHOD:PUBLISH
X-PUBLISHED-TTL:P3D
REFRESH-INTERVAL:P3D
CALSCALE:GREGORIAN
BEGIN:VEVENT
DTSTART:20241204T220000Z
DTEND:20241205T010000Z
X-MICROSOFT-CDO-ALLDAYEVENT:FALSE
SUMMARY:Wreath Decorating with Linda from Ipswich Hearts N' Flowers
DESCRIPTION:We are thrilled to invite you to a fantastic wreath decorating workshop on Wednesday\, December 4th at the Brewer's Table! \n\nGet ready to get crafty and learn how to personalize your holiday wreath. We're excited to collaborate with Linda of Ipswich Hearts N' Flowers for this special event. Wreaths are limited\, so you must register for this workshop. We will provide an instructor\, a wreath\, and decorations for purchase. Bring in scissors\, wire\, and any personalized decorations.\n\n \n\nDon't miss out on the fun and creativity! Register today! Seating and wreaths are limited.\n\nRegister is free\, you will purchase a wreath at the workshop event. Wreaths are $20 each. Decorations will be available for purchase as well.\n\nIdeas for personalized decorations:\n\n\n	\n	shells\n	\n	\n	bows & ribbons\n	\n	\n	ornaments\n	\n	\n	dried berries and dried fruit\n	\n	\n	pine cones & birch tree limbs\n	\n	\n	miniature faux birds and reindeer\n	\n	\n	miniature family photos
X-ALT-DESC;FMTTYPE=text/html:<p style="text-align:initial"><span style="background-color:var(--ricos-custom-p-background-color\,unset)">We are thrilled to invite you to a </span>fantastic wreath decorating workshop<span style="background-color:var(--ricos-custom-p-background-color\,unset)"> on </span><strong>Wednesday\, December 4th</strong><span style="background-color:var(--ricos-custom-p-background-color\,unset)"> at the Brewer&#39\;s Table! </span></p>\n\n<div style="background:transparent\; border:0px\; padding:0px\; text-align:initial"><span style="background-color:var(--ricos-custom-p-background-color\,unset)\; text-align:initial">Get ready to get crafty and learn how to personalize your holiday wreath. We&#39\;re excited to collaborate with Linda of Ipswich Hearts N&#39\; Flowers for this special event. Wreaths are limited\, so you must register for this workshop. We will provide an instructor\, a wreath\, and decorations for purchase. Bring in scissors\, wire\, and any personalized decorations.</span></div>\n\n<div style="background:transparent\; border:0px\; padding:0px\; text-align:initial">&nbsp\;</div>\n\n<p style="text-align:initial"><span style="background-color:var(--ricos-custom-p-background-color\,unset)">Don&#39\;t miss out on the fun and creativity! Register today! Seating and wreaths are limited.<br />\nRegister is free\, you will purchase a wreath at the workshop event. Wreaths are $20 each. Decorations will be available for purchase as well.</span></p>\n\n<p style="text-align:initial"><span style="background-color:var(--ricos-custom-p-background-color\,unset)">Ideas for personalized decorations:</span></p>\n\n<ul>\n	<li style="text-align:initial">\n	<p style="text-align:initial"><span style="background-color:var(--ricos-custom-p-background-color\,unset)">shells</span></p>\n	</li>\n	<li style="text-align:initial">\n	<p style="text-align:initial"><span style="background-color:var(--ricos-custom-p-background-color\,unset)">bows &amp\; ribbons</span></p>\n	</li>\n	<li style="text-align:initial">\n	<p style="text-align:initial"><span style="background-color:var(--ricos-custom-p-background-color\,unset)">ornaments</span></p>\n	</li>\n	<li style="text-align:initial">\n	<p style="text-align:initial"><span style="background-color:var(--ricos-custom-p-background-color\,unset)">dried berries and dried fruit</span></p>\n	</li>\n	<li style="text-align:initial">\n	<p style="text-align:initial"><span style="background-color:var(--ricos-custom-p-background-color\,unset)">pine cones &amp\; birch tree limbs</span></p>\n	</li>\n	<li style="text-align:initial">\n	<p style="text-align:initial"><span style="background-color:var(--ricos-custom-p-background-color\,unset)">miniature faux birds and reindeer</span></p>\n	</li>\n	<li style="text-align:initial">\n	<p style="text-align:initial"><span style="background-color:var(--ricos-custom-p-background-color\,unset)">miniature family photos</span></p>\n	</li>\n</ul>\n
LOCATION:Brewer's Table at Ipswich Ale Brewery 2 Brewery Place\, Ipswich\, MA
UID:e.2981.34122
SEQUENCE:3
DTSTAMP:20260424T125033Z
URL:https://business.capeannchamber.com/events/details/wreath-decorating-with-linda-from-ipswich-hearts-n-flowers-34122
END:VEVENT

END:VCALENDAR
