BEGIN:VCALENDAR
VERSION:2.0
PRODID:-//ChamberMaster//Event Calendar 2.0//EN
METHOD:PUBLISH
X-PUBLISHED-TTL:P3D
REFRESH-INTERVAL:P3D
CALSCALE:GREGORIAN
BEGIN:VEVENT
DTSTART:20250620T133000Z
DTEND:20250622T200000Z
X-MICROSOFT-CDO-ALLDAYEVENT:FALSE
SUMMARY:WORKSHOP: Caleb Stone Plein Air Painting - North Shore Arts Association
DESCRIPTION:Caleb Stone\, a Cape Ann-based painter and member of the North Shore Arts Association\, studied at the Lyme Academy College of Fine Arts. Working in both watercolor and oil\, he draws inspiration from French and American Impressionists and was introduced to plein air painting by his father\, Don Stone N.A.\, in the Rockport art colony. A recipient of numerous awards\, including the John Stobart Fellowship and the Land and Light Gold Medal\, Caleb teaches workshops regularly and was recently named an Elected Artist at the Lyme Art Association.\n\nJoin Caleb Stone for a dynamic plein air painting workshop focused on capturing light and atmosphere using a limited palette of red\, yellow\, and blue. Each day includes a location demo\, personalized instruction\, and a group critique\, with Caleb alternating between oil and watercolor demonstrations. Class meets daily at 9:30am at the NSAA and runs from 10am to 4pm\; students should bring lunch\, water\, and full painting gear.
X-ALT-DESC;FMTTYPE=text/html:<p>Caleb Stone\, a Cape Ann-based painter and member of the North Shore Arts Association\, studied at the Lyme Academy College of Fine Arts. Working in both watercolor and oil\, he draws inspiration from French and American Impressionists and was introduced to plein air painting by his father\, Don Stone N.A.\, in the Rockport art colony. A recipient of numerous awards\, including the John Stobart Fellowship and the Land and Light Gold Medal\, Caleb teaches workshops regularly and was recently named an Elected Artist at the Lyme Art Association.</p>\n\n<p>Join Caleb Stone for a dynamic plein air painting workshop focused on capturing light and atmosphere using a limited palette of red\, yellow\, and blue. Each day includes a location demo\, personalized instruction\, and a group critique\, with Caleb alternating between oil and watercolor demonstrations. Class meets daily at 9:30am at the NSAA and runs from 10am to 4pm\; students should bring lunch\, water\, and full painting gear.</p>\n
LOCATION:North Shore Arts Association 11 Pirates Lane\, Gloucester Massachusetts\, 01930
UID:e.2981.37283
SEQUENCE:3
DTSTAMP:20260424T211455Z
URL:https://business.capeannchamber.com/events/details/workshop-caleb-stone-plein-air-painting-north-shore-arts-association-37283
END:VEVENT

END:VCALENDAR
