BEGIN:VCALENDAR
VERSION:2.0
PRODID:-//ChamberMaster//Event Calendar 2.0//EN
METHOD:PUBLISH
X-PUBLISHED-TTL:P3D
REFRESH-INTERVAL:P3D
CALSCALE:GREGORIAN
BEGIN:VEVENT
DTSTART:20250821T200000Z
DTEND:20250821T210000Z
X-MICROSOFT-CDO-ALLDAYEVENT:FALSE
SUMMARY:WORKS LUNCH & LEARN - The Gold Standard for Pocket Doors & Interior Sliding Solutions
DESCRIPTION:You're Invited!\n\nLunch & Learn: Choosing the Right Sliding Door System\n\nJoin us for an informative and engaging session complete with lunch where we'll explore the growing popularity of sliding doors and how to choose the right solution for your project.\n\nWhat You'll Learn:\n\nWhile you enjoy lunch\, we'll dive into:\n\n\n	\n	Why sliding doors are becoming a top choice in both residential and commercial spaces\n\n	\n		\n		Functionality\n		\n		\n		Aesthetics\n		\n		\n		Space-saving advantages\n		\n	\n	\n	\n	The technical essentials you need to know:\n\n	\n		\n		Installation insights\n		\n		\n		Hardware component breakdowns across different systems\n		\n	\n	\n	\n	How to confidently select the right sliding door system for your unique application\n	\n\n\nTypes of Sliding Doors We'll Cover:\n\n\n	\n	Pocket Doors\n	\n	\n	Barn Doors\n	\n	\n	By-Pass Doors\n	\n	\n	Telescoping Doors\n	\n	\n	Automatic Doors\n	\n	\n	Plus: Sliding door handles and lock sets\n	\n\n\nWhether you're a designer\, builder\, installer\, or simply curious this session will equip you with valuable knowledge and practical tips.
X-ALT-DESC;FMTTYPE=text/html:<p><strong>You&#39\;re Invited!</strong><br />\n<strong>Lunch &amp\; Learn: Choosing the Right Sliding Door System</strong><br />\nJoin us for an informative and engaging session&mdash\;complete with lunch&mdash\;where we&rsquo\;ll explore the growing popularity of sliding doors and how to choose the right solution for your project.</p>\n\n<p><strong>What You&rsquo\;ll Learn:</strong><br />\n<strong>While you enjoy lunch\, we&rsquo\;ll dive into:</strong></p>\n\n<ul>\n	<li>\n	<p>Why sliding doors are becoming a top choice in both <strong>residential and commercial</strong> spaces</p>\n\n	<ul>\n		<li>\n		<p>Functionality</p>\n		</li>\n		<li>\n		<p>Aesthetics</p>\n		</li>\n		<li>\n		<p>Space-saving advantages</p>\n		</li>\n	</ul>\n	</li>\n	<li>\n	<p>The <strong>technical essentials</strong> you need to know:</p>\n\n	<ul>\n		<li>\n		<p>Installation insights</p>\n		</li>\n		<li>\n		<p>Hardware component breakdowns across different systems</p>\n		</li>\n	</ul>\n	</li>\n	<li>\n	<p>How to <strong>confidently select</strong> the right sliding door system for your unique application</p>\n	</li>\n</ul>\n\n<p><strong>Types of Sliding Doors We&#39\;ll Cover:</strong></p>\n\n<ul>\n	<li>\n	<p>Pocket Doors</p>\n	</li>\n	<li>\n	<p>Barn Doors</p>\n	</li>\n	<li>\n	<p>By-Pass Doors</p>\n	</li>\n	<li>\n	<p>Telescoping Doors</p>\n	</li>\n	<li>\n	<p>Automatic Doors</p>\n	</li>\n	<li>\n	<p>Plus: Sliding door <strong>handles and lock sets</strong></p>\n	</li>\n</ul>\n\n<p>Whether you&#39\;re a designer\, builder\, installer\, or simply curious&mdash\;this session will equip you with valuable knowledge and practical tips.</p>\n
LOCATION:Location: Webinar (Online) Registration Required to Join: https://forms.office.com/r/EZuQT0cgga Please register in advance using the link above to receive your unique access details. This is an online session no physical attendance required.
UID:e.2981.41376
SEQUENCE:3
DTSTAMP:20260424T235257Z
URL:https://business.capeannchamber.com/events/details/works-lunch-learn-the-gold-standard-for-pocket-doors-interior-sliding-solutions-41376
END:VEVENT

END:VCALENDAR
