BEGIN:VCALENDAR
VERSION:2.0
PRODID:-//ChamberMaster//Event Calendar 2.0//EN
METHOD:PUBLISH
X-PUBLISHED-TTL:P3D
REFRESH-INTERVAL:P3D
CALSCALE:GREGORIAN
BEGIN:VEVENT
DTSTART:20250918T200000Z
DTEND:20250918T210000Z
X-MICROSOFT-CDO-ALLDAYEVENT:FALSE
SUMMARY:WORKS LUNCH & LEARN | Stay Safe\, Build Smart – What Every Builder Must Know About Residential Safety
DESCRIPTION:Join us for an engaging Lunch & Learn session with Unison Risk as we dive into one of the most important topics for every builder and contractor: Residential Safety Risks.\n\n \n\n\n	Learn the most common safety risks in residential construction\n	Discover practical strategies to reduce liability and protect your business\n	Gain insights to keep your projects\, team\, and clients safe\n\n\n\n\nThis is a great opportunity to learn\, ask questions\, and take away actionable tips to strengthen your safety practices while enjoying lunch with peers.
X-ALT-DESC;FMTTYPE=text/html:<div>Join us for an engaging&nbsp\;<strong>Lunch &amp\; Learn session</strong>&nbsp\;with&nbsp\;<strong>Unison Risk</strong>&nbsp\;as we dive into one of the most important topics for every builder and contractor:&nbsp\;<strong>Residential Safety Risks</strong>.<br />\n&nbsp\;</div>\n\n<ul>\n	<li>Learn the most common safety risks in residential construction</li>\n	<li>Discover practical strategies to reduce liability and protect your business</li>\n	<li>Gain insights to keep your projects\, team\, and clients safe</li>\n</ul>\n\n<div><br />\nThis is a great opportunity to learn\, ask questions\, and take away actionable tips to strengthen your safety practices while enjoying lunch with peers.</div>\n\n<div>&nbsp\;</div>\n
LOCATION:Location: Webinar (Online) Registration Required to Join: https://forms.office.com/r/EZuQT0cgga Please register in advance using the link above to receive your access details. This is an online session no physical attendance required.
UID:e.2981.43121
SEQUENCE:3
DTSTAMP:20260425T011356Z
URL:https://business.capeannchamber.com/events/details/works-lunch-learn-stay-safe-build-smart-what-every-builder-must-know-about-residential-safety-43121
END:VEVENT

END:VCALENDAR
