BEGIN:VCALENDAR
VERSION:2.0
PRODID:-//ChamberMaster//Event Calendar 2.0//EN
METHOD:PUBLISH
X-PUBLISHED-TTL:P3D
REFRESH-INTERVAL:P3D
CALSCALE:GREGORIAN
BEGIN:VEVENT
DTSTART:20250609T130000Z
DTEND:20250609T170000Z
X-MICROSOFT-CDO-ALLDAYEVENT:FALSE
SUMMARY:WOODCUT WITH MASTER PRINTMAKER DON GORVETT
DESCRIPTION:This is the first of three five-day summer workshops. This first week\, learn the fundamentals of block design\, tool and press usage\, and relief printing techniques. Each workshop is limited to six participants. All skill levels are welcome.\n\nThe cost is $475\, which covers basic materials such as inks\, newsprint\, an initial supply of paper\, and studio cutting tools. Buying a new set of tools is optional. A $100 deposit will secure your spot\, with the remaining balance due at the first class.\n\nWorkshops held JULY 7-11 and AUGUST 4-8 will focus on the color reduction woodcut technique. The cost is $475\, limited to six participants\, and again\, we welcome all skill levels.
X-ALT-DESC;FMTTYPE=text/html:<p>This is the first of three five-day summer workshops. This first week\, learn the fundamentals of block design\, tool and press usage\, and relief printing techniques.&nbsp\;Each workshop is limited to six participants. All skill levels are welcome.</p>\n\n<p><strong>The cost is</strong>&nbsp\;$475\, which covers basic materials such as inks\, newsprint\, an initial supply of paper\, and studio cutting tools. Buying a new set of tools is optional. A $100 deposit will secure your spot\, with the remaining balance due at the first class.</p>\n\n<p>Workshops held&nbsp\;JULY 7-11 and&nbsp\;AUGUST 4-8 will focus on the color reduction woodcut technique. The cost is $475\, limited to six participants\, and again\, we welcome all skill levels.&nbsp\;</p>\n
LOCATION:Don Gorvett Studio and Gallery Beacon Marine Basin 211 East Main Street East Gloucester\, MA 01930
UID:e.2981.35122
SEQUENCE:3
DTSTAMP:20260424T211117Z
URL:https://business.capeannchamber.com/events/details/woodcut-with-master-printmaker-don-gorvett-35122
END:VEVENT

END:VCALENDAR
