BEGIN:VCALENDAR
VERSION:2.0
PRODID:-//ChamberMaster//Event Calendar 2.0//EN
METHOD:PUBLISH
X-PUBLISHED-TTL:P3D
REFRESH-INTERVAL:P3D
CALSCALE:GREGORIAN
BEGIN:VEVENT
DTSTART:20260128T230000Z
DTEND:20260129T020000Z
X-MICROSOFT-CDO-ALLDAYEVENT:FALSE
SUMMARY:Women in Wine Pairing Dinner
DESCRIPTION:Join us at Beauport Hotel on January 28 at 6:00PM for our Women in Wine Dinner. Taking place during Beauport Hotel's 10th year of hospitality\, this intimate four-course dining experience will feature wines from around the world crafted by prominent female winemakers. Tickets are $100++ per person. Winemakers featured:   Catarina Carli\, Montalcino\, Tuscany\, Italy   Anne Pichon\, Southern Rh ne\, France   Barbara For s\, Terra Alta\, Catalonia\, Spain   Nancy Irelan\, Finger Lakes\, New York   Ludivine Cade\, Alsace\, France\n\n++ Price does not include tax or 20% gratuity. Payment will be collected onsite. Cancellations made less than 48 hours prior to the event\, as well as no-shows\, will be charged the full amount.
X-ALT-DESC;FMTTYPE=text/html:<span style="color:rgb(45\, 51\, 63)\; font-family:brandontext\,helvetica neue\,helvetica\,arial\,opentablehiragino\,roboto\,droid sans\,??????\,opentableyugothic\,yugothic\,yu gothic\,????\,meiryo\,ms p????\,ms pgothic\,sans-serif\; font-size:16px"><span style="font-size:12px">Join us at Beauport Hotel on January 28 at 6:00PM for our Women in Wine Dinner. Taking place during Beauport Hotel&rsquo\;s 10th year of hospitality\, this intimate four-course dining experience will feature wines from around the world crafted by prominent female winemakers. Tickets are $100++ per person. Winemakers featured: &bull\; Catarina Carli\, Montalcino\, Tuscany\, Italy &bull\; Anne Pichon\, Southern Rh&ocirc\;ne\, France &bull\; Barbara For&eacute\;s\, Terra Alta\, Catalonia\, Spain &bull\; Nancy Irelan\, Finger Lakes\, New York &bull\; Ludivine Cade\, Alsace\, France</span><br />\n<span style="font-size:10px">++ Price does not include tax or 20% gratuity. Payment will be collected onsite. Cancellations made less than 48 hours prior to the event\, as well as no-shows\, will be charged the full amount.</span></span>
LOCATION:55 Commercial Street Gloucester\, MA 01930
UID:e.2981.45864
SEQUENCE:3
DTSTAMP:20260425T154141Z
URL:https://business.capeannchamber.com/events/details/women-in-wine-pairing-dinner-45864
END:VEVENT

END:VCALENDAR
