BEGIN:VCALENDAR
VERSION:2.0
PRODID:-//ChamberMaster//Event Calendar 2.0//EN
METHOD:PUBLISH
X-PUBLISHED-TTL:P3D
REFRESH-INTERVAL:P3D
CALSCALE:GREGORIAN
BEGIN:VEVENT
DTSTART:20251019T180000Z
DTEND:20251019T193000Z
X-MICROSOFT-CDO-ALLDAYEVENT:FALSE
SUMMARY:Wisdom Keeping: Abenaki Stories & Storytelling Traditions
DESCRIPTION:Traditional Native American storyteller and historian of European and Abenaki heritage\, Anne Jennison will give a performance of Traditional Abenaki stories at Appleton Farms in Ipswich\, MA.\n\nAppleton Farms sits on part of the land also known as Agawam\, within the traditional lands of the Pennacook Abenaki confederacy. The Abenaki Peoples have an ancient history and rich cultural heritage\, including a vast legacy of stories. Traditional Abenaki stories were\, and are\, meant for audiences of all ages   the entire community. The stories tell of the world's creation\, the creation of the aki (the land)\, the nebi (the water)\, the first awaasak (animal people)\, the first alnobak (human beings)\, and teach us how to live in balance with one another. The stories are filled with action\, drama\, wonder\, and even moments of humor.\n\nIn this program\, Anne Jennison\, a traditional Northeast Woodlands Native American storyteller\, begins and ends her performance with a traditional song accompanied by her frame drum and   in between   shares some of these Abenaki stories in a way that is interactive as well as entertaining. Anne will also explain how the stories have been\, and continue to be\, passed down from one generation to the next as well as the role of storytelling and the storyteller within the context of Abenaki culture.\n\nAbout our Guest Performer: Anne Jennison is a traditional Native American storyteller. Anne's storytelling skills have been polished by more than 30 years of experience sharing Indigenous lesson stories with audiences of all kinds. With Master Degrees in both Storytelling and History\, Anne also brings a wealth of cultural and historical knowledge to enrich her retelling of timeless Abenaki & Wabanaki stories. Anne is listed on the New Hampshire Traditional Artists Roster as a traditional Abenaki storyteller & craftsperson and on the New England Foundation for the Arts roster as a Teaching Artist and a Touring Artist.\n\nAnne is also the current Chair for the NH Commission on Native American Affairs and a member of the Indigenous NH Collaborative Collective (http://www.indigenousnh.com). Additionally\, she is an Affiliate Faculty member for the University of New Hampshire's Native American and Indigenous Studies (NAIS) Minor\, a co-creator of the "People of the Dawnland" interpretive exhibit about the Abenaki/Wabanaki peoples as well as a consultant for the Abenaki Heritage Initiative at Strawbery Banke Museum in Portsmouth\, NH. For more info: https://www.annejennison.com\n\nPlease join us at Appleton Farms for this celebration of indigenous heritage!
X-ALT-DESC;FMTTYPE=text/html:<p>Traditional Native American storyteller and historian of European and Abenaki heritage\, Anne Jennison will give a performance of Traditional Abenaki stories at Appleton Farms in Ipswich\, MA.</p>\n\n<p>Appleton Farms sits on part of the land also known as Agawam\, within the traditional lands of the Pennacook Abenaki confederacy. The Abenaki Peoples have an ancient history and rich cultural heritage\, including a vast legacy of stories. Traditional Abenaki stories were\, and are\, meant for audiences of all ages &ndash\; the entire community. The stories tell of the world&rsquo\;s creation\, the creation of the aki (the land)\, the nebi (the water)\, the first awaasak (animal people)\, the first alnobak (human beings)\, and teach us how to live in balance with one another. The stories are filled with action\, drama\, wonder\, and even moments of humor.</p>\n\n<p>In this program\, Anne Jennison\, a traditional Northeast Woodlands Native American storyteller\, begins and ends her performance with a traditional song accompanied by her frame drum and &ndash\; in between &ndash\; shares some of these Abenaki stories in a way that is interactive as well as entertaining. Anne will also explain how the stories have been\, and continue to be\, passed down from one generation to the next as well as the role of storytelling and the storyteller within the context of Abenaki culture.</p>\n\n<p><em>About our Guest Performer</em>: Anne Jennison is a traditional Native American storyteller. Anne&rsquo\;s storytelling skills have been polished by more than 30 years of experience sharing Indigenous lesson stories with audiences of all kinds. With Master Degrees in both Storytelling and History\, Anne also brings a wealth of cultural and historical knowledge to enrich her retelling of timeless Abenaki &amp\; Wabanaki stories. Anne is listed on the New Hampshire Traditional Artists Roster as a traditional Abenaki storyteller &amp\; craftsperson and on the New England Foundation for the Arts roster as a Teaching Artist and a Touring Artist.</p>\n\n<p>Anne is also the current Chair for the NH Commission on Native American Affairs and a member of the Indigenous NH Collaborative Collective (http://www.indigenousnh.com). Additionally\, she is an Affiliate Faculty member for the University of New Hampshire&rsquo\;s Native American and Indigenous Studies (NAIS) Minor\, a co-creator of the &ldquo\;People of the Dawnland&rdquo\; interpretive exhibit about the Abenaki/Wabanaki peoples as well as a consultant for the Abenaki Heritage Initiative at Strawbery Banke Museum in Portsmouth\, NH. For more info:&nbsp\;<a href="https://www.annejennison.com/" style="box-sizing: inherit\; color: rgb(55\, 61\, 57)\; text-decoration-line: none\; transition: 0.3s cubic-bezier(0.25\, 0.46\, 0.45\, 0.94)\; font-size: 16px\; line-height: 26px\; letter-spacing: 0.012em\; border-bottom: 1px solid rgb(86\, 150\, 2)\;">https://www.annejennison.com</a></p>\n\n<p>Please join us at Appleton Farms for this celebration of indigenous heritage!</p>\n
LOCATION:Appleton Farms 219 County Road Hamilton & Ipswich\, MA 01938
UID:e.2981.45098
SEQUENCE:3
DTSTAMP:20260422T073417Z
URL:https://business.capeannchamber.com/events/details/wisdom-keeping-abenaki-stories-storytelling-traditions-45098
END:VEVENT

END:VCALENDAR
