BEGIN:VCALENDAR
VERSION:2.0
PRODID:-//ChamberMaster//Event Calendar 2.0//EN
METHOD:PUBLISH
X-PUBLISHED-TTL:P3D
REFRESH-INTERVAL:P3D
CALSCALE:GREGORIAN
BEGIN:VEVENT
DTSTART:20241208T230000Z
DTEND:20241209T030000Z
X-MICROSOFT-CDO-ALLDAYEVENT:FALSE
SUMMARY:Winter Paint and Sip
DESCRIPTION:12/08/24\n\nG.A Seating\n\n6:00pm Doors / 6:30pm Start\n\n21+\, Positive I.D. Required. $45\n\n\n\nAre you ready to dip your brushes into a world of color and creativity? This follow along Paint and Sip event is a perfect opportunity to explore your artistic talents in a fun and exciting way!\n\n\n\nCome check out The Cut's winter-themed Paint and Sip\, hosted by Lannah Paints! We are so excited for this festive December evening\, and hope to see you there!\n\n\n\nHosted in the venue. Drinks and food available for purchase.
X-ALT-DESC;FMTTYPE=text/html:<span style="color:rgb(64\, 64\, 65)\; font-family:open sans\,sans-serif\; font-size:14px">12/08/24</span><br />\n<span style="color:rgb(64\, 64\, 65)\; font-family:open sans\,sans-serif\; font-size:14pt"><strong>G.A Seating</strong></span><br />\n<span style="color:rgb(64\, 64\, 65)\; font-family:open sans\,sans-serif\; font-size:14px">6:00pm Doors / 6:30pm Start</span><br />\n<span style="color:rgb(64\, 64\, 65)\; font-family:open sans\,sans-serif\; font-size:14px">21+\, Positive I.D. Required. $45</span><br />\n<br />\n<span style="color:rgb(64\, 64\, 65)\; font-family:open sans\,sans-serif\; font-size:14px">Are you ready to dip your brushes into a world of color and creativity? This follow along Paint and Sip event is a perfect opportunity to explore your artistic talents in a fun and exciting way!</span><br />\n<br />\n<span style="color:rgb(64\, 64\, 65)\; font-family:open sans\,sans-serif\; font-size:14px">Come check out The Cut&rsquo\;s winter-themed Paint and Sip\, hosted by Lannah Paints! We are so excited for this festive December&nbsp\;evening\, and hope to see you there!</span><br />\n<br />\n<span style="color:rgb(64\, 64\, 65)\; font-family:open sans\,sans-serif\; font-size:14px">Hosted in the venue. Drinks and food available for purchase.</span>
LOCATION:The Cut 177 Main Street Gloucester\, MA 01930
UID:e.2981.34135
SEQUENCE:3
DTSTAMP:20260424T152540Z
URL:https://business.capeannchamber.com/events/details/winter-paint-and-sip-34135
END:VEVENT

END:VCALENDAR
