BEGIN:VCALENDAR
VERSION:2.0
PRODID:-//ChamberMaster//Event Calendar 2.0//EN
METHOD:PUBLISH
X-PUBLISHED-TTL:P3D
REFRESH-INTERVAL:P3D
CALSCALE:GREGORIAN
BEGIN:VEVENT
DTSTART:20241215T160000Z
DTEND:20241215T210000Z
X-MICROSOFT-CDO-ALLDAYEVENT:FALSE
SUMMARY:Winter Market Series with Cape Ann Makers Market
DESCRIPTION:Join us at The Cut on Sunday\, December 15th for one of our exciting winter markets\, organized by Cape Ann Makers Market! Discover a unique selection of handmade products from around 30 talented artisans and find the perfect gifts to celebrate the season. Don't miss out on this chance to support local creators and enjoy a festive atmosphere!\n\nMarket open 11AM-4PM - Learn more about Cape Ann Makers Market at www.capeannmakersmarket.com
X-ALT-DESC;FMTTYPE=text/html:<p>Join us at The Cut on Sunday\, December 15th for one of our exciting winter markets\, organized by Cape Ann Makers Market! Discover a unique selection of handmade products from around 30 talented artisans and find the perfect gifts to celebrate the season. Don&rsquo\;t miss out on this chance to support local creators and enjoy a festive atmosphere!</p>\n\n<p>Market open 11AM-4PM - Learn more about Cape Ann Makers Market at www.capeannmakersmarket.com</p>\n
LOCATION:The Cut 177 Main Street Gloucester\, MA 01930
UID:e.2981.34098
SEQUENCE:3
DTSTAMP:20260424T152717Z
URL:https://business.capeannchamber.com/events/details/winter-market-series-with-cape-ann-makers-market-34098
END:VEVENT

END:VCALENDAR
