BEGIN:VCALENDAR
VERSION:2.0
PRODID:-//ChamberMaster//Event Calendar 2.0//EN
METHOD:PUBLISH
X-PUBLISHED-TTL:P3D
REFRESH-INTERVAL:P3D
CALSCALE:GREGORIAN
BEGIN:VEVENT
DTSTART:20241221T160000Z
DTEND:20241221T210000Z
X-MICROSOFT-CDO-ALLDAYEVENT:FALSE
SUMMARY:Winter Market Series with Black Sheep Events
DESCRIPTION:Join us at The Cut on Saturday\, December 21st for one of our exciting winter markets\, organized by Black Sheep Events! Discover a unique selection of handmade products from around 30 talented artisans and find the perfect gifts to celebrate the season. Don't miss out on this chance to support local creators and enjoy a festive atmosphere!\n\nMarket open 11AM-4PM - Learn more about Black Sheep Events at www.blacksheepevents.org\n\nMake a whole day of it and stay for our show that night\, Little Lies\, a Fleetwood Mac Tribute band. Tickets available on our website.
X-ALT-DESC;FMTTYPE=text/html:<p>Join us at The Cut on&nbsp\;Saturday\, December 21st&nbsp\;for one of our exciting winter markets\, organized by Black Sheep Events! Discover a unique selection of handmade products from around 30 talented artisans and find the perfect gifts to celebrate the season. Don&rsquo\;t miss out on this chance to support local creators and enjoy a festive atmosphere!</p>\n\n<p>Market open 11AM-4PM - Learn more about&nbsp\;Black Sheep Events at&nbsp\;www.blacksheepevents.org</p>\n\n<p>Make a whole day of it and stay for our show that night\, Little Lies\, a Fleetwood Mac Tribute band. Tickets available on our website.&nbsp\;</p>\n
LOCATION:The Cut 177 Main Street Gloucester\, MA 01930
UID:e.2981.34100
SEQUENCE:3
DTSTAMP:20260424T152710Z
URL:https://business.capeannchamber.com/events/details/winter-market-series-with-black-sheep-events-34100
END:VEVENT

END:VCALENDAR
