BEGIN:VCALENDAR
VERSION:2.0
PRODID:-//ChamberMaster//Event Calendar 2.0//EN
METHOD:PUBLISH
X-PUBLISHED-TTL:P3D
REFRESH-INTERVAL:P3D
CALSCALE:GREGORIAN
BEGIN:VEVENT
DTSTART:20250625T230000Z
DTEND:20250626T010000Z
X-MICROSOFT-CDO-ALLDAYEVENT:FALSE
SUMMARY:Windhover Presents Saving Grace Dance Ensemble
DESCRIPTION:Windhover Performing Arts Center\, Rockport\, MA welcomes the New Hampshire-based Saving Grace Dance Ensemble\, led by Artistic Director Robyn Movsessian\, to its outdoor stage this June.  This inspiring and collaborative evening of dance will feature: Douglas Davis Ballet (NH)\, Solo artists Michael Dascomb (NH) Emily Lutts (ME) and Maille Zelko (NH)\, Miss Kelsey's Dance Studio (NH)\, Maine Dance Company (ME)\, NSquared Dance Company (NH/NYC)\, Russian Ballet Academy (NH)\, Safe Haven Ballet (NH)\, Speaking in Taps (Greater New England)\,\n\nSaving Grace Dance Ensemble will present several new works at Windhover. "Redeemer" is a modern duet by guest choreographer Steve Rooks of The Martha Graham Dance Company\, and Artistic Director Robyn Movsessian will showcase three new works. Included in the program will be Saving Grace's contemporary ballet "Jubi"\, short for jubilee\; the art of celebration! This vibrant and joyous ballet explodes with bright blue leotards and hot pink sparkling tutus to the music of Michael Torke. \n\nOn a more somber note\, this program also includes a special tribute to Movsessian's nephew who died of fentanyl poisoning in 2023. "Going Dark" devotes movement to music by Johann Johansson and Rachmaninoff's "Vespers" to tell the story of a mother and her son\, the pain of loss and the peace of ethereal resolve.\n\nTickets are Students\, $25\, General $35\, available at Windhover.org\n\nPerformances are rain or shine.  Guests are welcome to bring a picnic and enjoy the magical Windhover grounds before the show.
X-ALT-DESC;FMTTYPE=text/html:<p><span style="background-color:transparent\; color:#000000\; font-family:arial\,sans-serif\; font-size:11pt">Windhover Performing Arts Center\, Rockport\, MA welcomes the New Hampshire-based </span><strong>Saving Grace Dance Ensemble\, led by Artistic Director Robyn Movsessian</strong><span style="background-color:transparent\; color:#000000\; font-family:arial\,sans-serif\; font-size:11pt">\, to its outdoor stage this June.&nbsp\; This inspiring and collaborative evening of dance will feature: Douglas Davis Ballet (NH)\, Solo artists Michael Dascomb (NH) Emily Lutts (ME) and Maille Zelko (NH)\, Miss Kelsey&rsquo\;s Dance Studio (NH)\, Maine Dance Company (ME)\, NSquared Dance Company (NH/NYC)\, Russian Ballet Academy (NH)\, Safe Haven Ballet (NH)\, Speaking in Taps (Greater New England)\,</span></p>\n\n<p><span style="background-color:transparent\; color:#000000\; font-family:arial\,sans-serif\; font-size:11pt">Saving Grace Dance Ensemble will present several new works at Windhover. &ldquo\;Redeemer&rdquo\; is a modern duet by guest choreographer Steve Rooks of The Martha Graham Dance Company\, and Artistic Director Robyn Movsessian will showcase three new works. Included in the program will be Saving Grace&rsquo\;s contemporary ballet &ldquo\;Jubi&rdquo\;\, short for </span><em>jubilee\; the art of celebration! </em><span style="background-color:transparent\; color:#000000\; font-family:arial\,sans-serif\; font-size:11pt">This vibrant and joyous ballet explodes with bright blue leotards and hot pink sparkling tutus to the music of Michael Torke.&nbsp\;</span></p>\n\n<p><span style="background-color:transparent\; color:#000000\; font-family:arial\,sans-serif\; font-size:11pt">On a more somber note\, this program also includes a special tribute to Movsessian&rsquo\;s nephew who died of fentanyl poisoning in 2023. &ldquo\;Going Dark&rdquo\; devotes movement to music by Johann Johansson and Rachmaninoff&rsquo\;s &ldquo\;Vespers&rdquo\; to tell the story of a mother and her son\, the pain of loss and the peace of ethereal resolve.</span></p>\n\n<p><span style="background-color:transparent\; color:#000000\; font-family:arial\,sans-serif\; font-size:11pt">Tickets are Students\, $25\, General $35\, available at </span><a href="http://windhover.org" style="text-decoration:none\;"><u>Windhover.org</u></a></p>\n\n<p><span style="background-color:transparent\; color:#000000\; font-family:arial\,sans-serif\; font-size:11pt">Performances are rain or shine.&nbsp\; Guests are welcome to bring a picnic and enjoy the magical Windhover grounds before the show.&nbsp\;&nbsp\;</span></p>\n
LOCATION:Windhover Center for the Performing Arts\, 27R Granite St\, Rockport\, MA 01966
UID:e.2981.37278
SEQUENCE:3
DTSTAMP:20260424T211021Z
URL:https://business.capeannchamber.com/events/details/windhover-presents-saving-grace-dance-ensemble-37278
END:VEVENT

END:VCALENDAR
