BEGIN:VCALENDAR
VERSION:2.0
PRODID:-//ChamberMaster//Event Calendar 2.0//EN
METHOD:PUBLISH
X-PUBLISHED-TTL:P3D
REFRESH-INTERVAL:P3D
CALSCALE:GREGORIAN
BEGIN:VEVENT
DTSTART:20250810T180000Z
DTEND:20250810T190000Z
X-MICROSOFT-CDO-ALLDAYEVENT:FALSE
SUMMARY:White-Ellery House Tour
DESCRIPTION:Sunday\, August 10\, 2025\n\n2:00 p.m.   3:00 p.m.\n\nWhite-Ellery House\, CAM Green\n\n13 Poplar St\, Gloucester\, MA 01930\n\nFree and open to the public.\n\nRegistration Required due to limited space.\n\nThe White-Ellery House\, built in 1710 for the Reverend John White\, Gloucester's first settled minister in First Parish\, was situated in Gloucester's Town Green\, the center of the community at that time. The house exhibits a certain elegance and refinement while providing for basic needs of its early owners. The tour will share who lived in the house over time\, its exterior structure and interior features\, and the adventure of being moved to make way for the Route 128 rotary. \n\n \n\nPhoto Credit: The White-Ellery House\, CAM staff photo.
X-ALT-DESC;FMTTYPE=text/html:<p>Sunday\, August 10\, 2025<br />\n2:00 p.m. &ndash\; 3:00 p.m.<br />\nWhite-Ellery House\, CAM Green<br />\n13 Poplar St\, Gloucester\, MA 01930<br />\n<em>Free and open to the public.</em><br />\n<a href="https://115461a.blackbaudhosting.com/115461a/White-Ellery-House-Tour-10Aug2025" style="box-sizing: border-box\; margin: 0px\; padding: 0px\; border-width: 0px 0px 1px\; border-top-style: initial\; border-right-style: initial\; border-bottom-style: solid\; border-left-style: initial\; border-color: rgb(211\, 211\, 211)\; border-image: initial\; font-variant: inherit\; font-weight: inherit\; font-stretch: inherit\; font-size: inherit\; line-height: inherit\; font-family: inherit\; font-optical-sizing: inherit\; font-size-adjust: inherit\; font-kerning: inherit\; font-feature-settings: inherit\; font-variation-settings: inherit\; vertical-align: baseline\; text-decoration-line: none\; outline: 0px\; max-width: 100%\; color: rgb(37\, 119\, 160)\; transition: color 0.2s\;">Registration Required</a><em>&nbsp\;due to limited space.</em></p>\n\n<p>The&nbsp\;<a href="https://www.capeannmuseum.org/collections/white-ellery-house-1710/" style="box-sizing: border-box\; margin: 0px\; padding: 0px\; border-width: 0px 0px 1px\; border-top-style: initial\; border-right-style: initial\; border-bottom-style: solid\; border-left-style: initial\; border-color: rgb(211\, 211\, 211)\; border-image: initial\; font-variant: inherit\; font-weight: inherit\; font-stretch: inherit\; font-size: inherit\; line-height: inherit\; font-family: inherit\; font-optical-sizing: inherit\; font-size-adjust: inherit\; font-kerning: inherit\; font-feature-settings: inherit\; font-variation-settings: inherit\; vertical-align: baseline\; text-decoration-line: none\; outline: 0px\; max-width: 100%\; color: rgb(37\, 119\, 160)\; transition: color 0.2s\;">White-Ellery House</a>\, built in 1710 for the&nbsp\;Reverend John White\, Gloucester&rsquo\;s first settled minister in First Parish\, was situated in Gloucester&rsquo\;s Town Green\, the center of the community at that time. The house exhibits a certain elegance and refinement while providing for basic needs of its early owners. The tour will share who lived in the house over time\, its exterior structure and interior features\, and the adventure of being moved to make way for the Route 128 rotary.&nbsp\;</p>\n\n<p>&nbsp\;</p>\n\n<p><em>Photo Credit: The White-Ellery House\, CAM staff photo.</em></p>\n
LOCATION:White-Ellery House\, CAM Green 13 Poplar St\, Gloucester\, MA 01930
UID:e.2981.37368
SEQUENCE:3
DTSTAMP:20260424T235659Z
URL:https://business.capeannchamber.com/events/details/white-ellery-house-tour-08-10-2025-37368
END:VEVENT

END:VCALENDAR
