BEGIN:VCALENDAR
VERSION:2.0
PRODID:-//ChamberMaster//Event Calendar 2.0//EN
METHOD:PUBLISH
X-PUBLISHED-TTL:P3D
REFRESH-INTERVAL:P3D
CALSCALE:GREGORIAN
BEGIN:VEVENT
DTSTART:20260711T143000Z
DTEND:20260711T173000Z
X-MICROSOFT-CDO-ALLDAYEVENT:FALSE
SUMMARY:Where the Water Wonders Live: Grade 2 Student Exhibition Opening Reception
DESCRIPTION:Join us for the opening reception of this year's collaborative installation by second grade students of Cape Ann\, enjoy art making activities\, tour the Museum and take a Cassie Scavenger Hunt through the galleries. All are invited! The Cape Ann Museum is proud to partner with Cape Ann Public schools to explore the art\, culture and history of this unique place.
X-ALT-DESC;FMTTYPE=text/html:<span style="font-family:archivo\; font-size:19px">Join us for the opening reception of this year&rsquo\;s collaborative installation by second grade students of Cape Ann\, enjoy art making activities\, tour the Museum and take a Cassie Scavenger Hunt through the galleries. All are invited! The Cape Ann Museum is proud to partner with Cape Ann Public schools to explore the art\, culture and history of this unique place.</span>
LOCATION:Archival Gallery & Education Studio\, Downtown Campus 27 Pleasant Street\, Gloucester\, MA 01930
UID:e.2981.46941
SEQUENCE:3
DTSTAMP:20260424T233547Z
URL:https://business.capeannchamber.com/events/details/where-the-water-wonders-live-grade-2-student-exhibition-opening-reception-46941
END:VEVENT

END:VCALENDAR
