BEGIN:VCALENDAR
VERSION:2.0
PRODID:-//ChamberMaster//Event Calendar 2.0//EN
METHOD:PUBLISH
X-PUBLISHED-TTL:P3D
REFRESH-INTERVAL:P3D
CALSCALE:GREGORIAN
BEGIN:VEVENT
DTSTART;VALUE=DATE:20250807
DTEND;VALUE=DATE:20250818
TRANSP:TRANSPARENT
X-MICROSOFT-CDO-ALLDAYEVENT:TRUE
SUMMARY:What’s In A Voice\, Solo Exhibition with Talya Baharal
DESCRIPTION:What's In A Voice is an invigorating solo exhibition by artist Talya Baharal\, the 2025 Goetemann Artist Residency Distinguished Artist\, showcasing her paintings that explore the evolving journey of an artist finding and refining her abstract voice. Each work reflects her deep engagement with the visual world unintended compositions seen\, absorbed\, and reimagined through the language of abstraction.\n\nFrom asphalt repairs and fractured ice sheets to a humble mended seam or a mangled wire in a trash heap\, these everyday moments are transmuted into abstract forms. They become part of Baharal's imaginary landscapes a vocabulary that speaks of fragility\, transformation\, and quiet resilience.\n\n"Excavating and disturbing surfaces whether metaphorically or physically has been an ongoing theme in all my work. Revealing visual remnants of the struggles and discoveries is at the essence of my painting path. I paint for those moments of clarity. I paint for the times I find the courage to destroy and rebuild. I paint to feel alive."\n\nPreviously known for her work as a sculptor and studio jeweler\, Baharal's sculptural sensibility and fascination with decay and containment remain foundational. Her attention to vessels\, structures\, and imagined terrains carries into her paintings\, which are rich with layered meaning and form.\n\nUsing acrylic paint\, ink\, and mixed media including torn paintings and photographic images of earlier sculptural work Baharal activates each composition with a dynamic interplay of gesture and collage. Lines emerge\, disappear\, and re-emerge across the surface\, creating an armature that holds the visual narrative together.\n\nHer process is one of excavation: revealing\, concealing\, and reworking\, until the painting speaks with authenticity.\n\n\n\nOpening Reception: Thursday\, August 7\, 5-7pm\n\nArtist Talk: Sunday\, August 10\, 5-6pm\, The Cultural Center at Rocky Neck\, Gloucester\, MA\n\nGallery Hours: Thursday & Friday\, 3-7pm\; Saturday\, 12-7pm\; Sunday\, 12-4pm\; Monday\, 11am-2pm\n\nRead more about the artist and exhibit HERE.\n\n\n\nFeatured image: Attempting to Speak\, Talya Baharal
X-ALT-DESC;FMTTYPE=text/html:<p><span style="font-family:arial\,helvetica\,sans-serif"><strong>What&rsquo\;s In A Voice</strong>&nbsp\;is an invigorating solo exhibition by artist&nbsp\;<strong>Talya Baharal\,&nbsp\;</strong>the&nbsp\;<em>2025 Goetemann Artist Residency Distinguished Artist</em><strong>\,</strong>&nbsp\;showcasing her paintings that&nbsp\;explore the evolving journey of an artist finding and refining her abstract voice. Each work reflects her deep engagement with the visual world&mdash\;unintended compositions seen\, absorbed\, and reimagined through the language of abstraction.</span></p>\n\n<p><span style="font-family:arial\,helvetica\,sans-serif">From asphalt repairs and fractured ice sheets to a humble mended seam or a mangled wire in a trash heap\, these everyday moments are transmuted into abstract forms. They become part of Baharal&rsquo\;s imaginary landscapes&mdash\;a vocabulary that speaks of fragility\, transformation\, and quiet resilience.</span></p>\n\n<p><span style="font-family:arial\,helvetica\,sans-serif"><em>&ldquo\;Excavating and disturbing surfaces&mdash\;whether metaphorically or physically&mdash\;has been an ongoing theme in all my work. Revealing visual remnants of the struggles and discoveries is at the essence of my painting path. I paint for those moments of clarity. I paint for the times I find the courage to destroy and rebuild. I paint to feel alive.&rdquo\;</em></span></p>\n\n<p><span style="font-family:arial\,helvetica\,sans-serif">Previously known for her work as a sculptor and studio jeweler\, Baharal&rsquo\;s sculptural sensibility and fascination with decay and containment remain foundational. Her attention to vessels\, structures\, and imagined terrains carries into her paintings\, which are rich with layered meaning and form.</span></p>\n\n<p><span style="font-family:arial\,helvetica\,sans-serif">Using acrylic paint\, ink\, and mixed media&mdash\;including torn paintings and photographic images of earlier sculptural work&mdash\;Baharal activates each composition with a dynamic interplay of gesture and collage. Lines emerge\, disappear\, and re-emerge across the surface\, creating an armature that holds the visual narrative together.</span></p>\n\n<p><span style="font-family:arial\,helvetica\,sans-serif">Her process is one of excavation: revealing\, concealing\, and reworking\, until the painting speaks with authenticity.</span><br />\n<br />\nOpening Reception: Thursday\, August 7\, 5-7pm<br />\n<span style="color:rgb(20\, 24\, 39)\; font-family:helvetica neue\,helvetica\,-apple-system\,blinkmacsystemfont\,roboto\,arial\,sans-serif">Artist Talk: Sunday\, August 10\, 5-6pm\, The Cultural Center at Rocky Neck\, Gloucester\, MA</span><br />\n<span style="color:rgb(20\, 24\, 39)\; font-family:helvetica neue\,helvetica\,-apple-system\,blinkmacsystemfont\,roboto\,arial\,sans-serif">Gallery Hours: Thursday &amp\; Friday\, 3-7pm\; Saturday\, 12-7pm\; Sunday\, 12-4pm\; Monday\, 11am-2pm</span></p>\n\n<p><span style="font-family:arial\,helvetica\,sans-serif">Read more about the artist and exhibit&nbsp\;<a href="https://rockyneckartcolony.org/event/whats-in-a-voice-paintings-by-talya-baharal-2025-gar-distinguished-artist/">HERE</a>.<br />\n<br />\n<span style="font-size:11px"><em>Featured image: Attempting to Speak\, Talya Baharal</em></span></span></p>\n
LOCATION:Cove Gallery\, 37 Rocky Neck Avenue\, Gloucester MA 01930
UID:e.2981.41373
SEQUENCE:3
DTSTAMP:20260425T000011Z
URL:https://business.capeannchamber.com/events/details/what-s-in-a-voice-solo-exhibition-with-talya-baharal-41373
END:VEVENT

END:VCALENDAR
