BEGIN:VCALENDAR
VERSION:2.0
PRODID:-//ChamberMaster//Event Calendar 2.0//EN
METHOD:PUBLISH
X-PUBLISHED-TTL:P3D
REFRESH-INTERVAL:P3D
CALSCALE:GREGORIAN
BEGIN:VEVENT
DTSTART:20140528T140000Z
DTEND:20140528T160000Z
X-MICROSOFT-CDO-ALLDAYEVENT:FALSE
SUMMARY:Weeding Wednesdays at Beauport
DESCRIPTION:Call for volunteers!  Volunteer alongside Historic New England's staff experts and members to care for an learn about the Beauport historic gardens.  Work includes seasonally appropriate tasks\, such as weeding gardens and paths\, dividing plants\, planting new materials\, removing invasives\, and other clean-up activities.
X-ALT-DESC;FMTTYPE=text/html:Call for volunteers!  Volunteer alongside Historic New England's staff experts and members to care for an learn about the Beauport historic gardens.  Work includes seasonally appropriate tasks\, such as weeding gardens and paths\, dividing plants\, planting new materials\, removing invasives\, and other clean-up activities.
LOCATION:75 Eastern Point Blvd.\, Gloucester \, MA 01930 Beauport\, the Sleeper - McCann House
UID:e.2981.1342
SEQUENCE:3
DTSTAMP:20260419T195051Z
URL:https://business.capeannchamber.com/events/details/weeding-wednesdays-at-beauport-05-28-2014-1342
END:VEVENT

END:VCALENDAR
