BEGIN:VCALENDAR
VERSION:2.0
PRODID:-//ChamberMaster//Event Calendar 2.0//EN
METHOD:PUBLISH
X-PUBLISHED-TTL:P3D
REFRESH-INTERVAL:P3D
CALSCALE:GREGORIAN
BEGIN:VEVENT
DTSTART:20250806T213000Z
DTEND:20250806T233000Z
X-MICROSOFT-CDO-ALLDAYEVENT:FALSE
SUMMARY:Wedding Show
DESCRIPTION:Come and meet a variety of vendors while viewing Misselwood's gorgeous property on Boston's North Shore. Sip on prosecco and sample many of Vinwood Catering's delicious offerings. Taste cakes and desserts\, meet with florists\, photographers\, DJs and many more as you plan your big day. Raffle and cash bar as well!\n\nAs a prime location on the North Shore for weddings\, Misselwood offers a stunning setting for ceremonies and receptions overlooking the Atlantic Ocean. The beautiful grounds & breathtaking sunsets\, capped off with our climate-controlled tent\, fulfill the ultimate outdoor wedding dream.
X-ALT-DESC;FMTTYPE=text/html:<p>Come and meet a variety of vendors while viewing Misselwood&#39\;s gorgeous property on Boston&#39\;s North Shore. Sip on prosecco and sample many of Vinwood Catering&#39\;s delicious offerings. Taste cakes and desserts\, meet with florists\, photographers\, DJs and many more as you plan your big day. Raffle and cash bar as well!</p>\n\n<p>As a prime location on the North Shore for weddings\, Misselwood offers a stunning setting for ceremonies and receptions overlooking the Atlantic Ocean. The beautiful grounds &amp\; breathtaking sunsets\, capped off with our climate-controlled tent\, fulfill the ultimate outdoor wedding dream.</p>\n
LOCATION:
UID:e.2981.35005
SEQUENCE:3
DTSTAMP:20260424T235050Z
URL:https://business.capeannchamber.com/events/details/wedding-show-35005
END:VEVENT

END:VCALENDAR
