BEGIN:VCALENDAR
VERSION:2.0
PRODID:-//ChamberMaster//Event Calendar 2.0//EN
METHOD:PUBLISH
X-PUBLISHED-TTL:P3D
REFRESH-INTERVAL:P3D
CALSCALE:GREGORIAN
BEGIN:VEVENT
DTSTART:20251125T133000Z
DTEND:20251125T153000Z
X-MICROSOFT-CDO-ALLDAYEVENT:FALSE
SUMMARY:Website Planning 101
DESCRIPTION:Ready for a new website? Whether you have one your friend built\, are building or \n\nrebuilding one yourself or decide to work with a pro\, getting organized is the key to \n\nyour website's success. \n\nLearn \n\n	how to Set your website's goals\, \n	determine key functionality and features\, \n	plan your website content \n	Choose a platform and provider\n\nFacilitator: L Kevin Ritterhause
X-ALT-DESC;FMTTYPE=text/html:<span style="font-family:arial\,sans-serif">Ready for a new website? Whether you have one your friend built\, are building or </span><br />\n<span style="font-family:arial\,sans-serif">rebuilding one yourself or decide to work with a pro\, getting organized is the key to </span><br />\n<span style="font-family:arial\,sans-serif">your website&rsquo\;s success. </span><br />\n<span style="font-family:arial\,sans-serif">Learn </span>\n<ul>\n	<li><span style="font-family:arial\,sans-serif">how to Set your website&rsquo\;s goals\, </span></li>\n	<li><span style="font-family:arial\,sans-serif">determine key functionality and features\, </span></li>\n	<li><span style="font-family:arial\,sans-serif">plan your website content </span></li>\n	<li><span style="font-family:arial\,sans-serif">Choose a platform and provider</span></li>\n</ul>\n<span style="font-family:arial\,sans-serif">Facilitator: L Kevin Ritterhause</span><br />\n&nbsp\;
LOCATION:Enterprise Center at Salem State University
UID:e.2981.43035
SEQUENCE:3
DTSTAMP:20260425T034804Z
URL:https://business.capeannchamber.com/events/details/website-planning-101-43035
END:VEVENT

END:VCALENDAR
