BEGIN:VCALENDAR
VERSION:2.0
PRODID:-//ChamberMaster//Event Calendar 2.0//EN
METHOD:PUBLISH
X-PUBLISHED-TTL:P3D
REFRESH-INTERVAL:P3D
CALSCALE:GREGORIAN
BEGIN:VEVENT
DTSTART:20250801T143000Z
DTEND:20250801T160000Z
X-MICROSOFT-CDO-ALLDAYEVENT:FALSE
SUMMARY:Waterfront Reflections: Gloucester’s Harbor Village Walking Tour
DESCRIPTION:Friday\, August 1\, 2025\n\n10:30 a.m.   12:00 p.m.\n\nCape Ann Museum Courtyard\, Downtown Campus\n\n27 Pleasant St\, Gloucester\, MA\, 01930\n\n$10 for CAM Members\, $20 for non-members\n\nRegistration Required\n\nThis walking tour looks at changes in Gloucester's Harbor Village as it advanced from the home of a few to the workplace of many during the late 18th to early 20th centuries.  A mix of structures past and present\, heroes\, art\, and waterfront activity all inform the picture of the diverse and vibrant community that emerged along the shore of Le Beauport\, the beautiful port.\n\nStroll with a CAM Docent for about 1 1/2 hours in downtown Gloucester.\n\nWhere to Meet?\n\nThough the Downtown Campus is currently closed for renovations until the spring of 2026\, the tour will gather at the courtyard attached to the Museum on 27 Pleasant Street. Tours are light rain or shine.\n\nPhoto Credit: CAM docent leading walking tour\, CAM staff photo.
X-ALT-DESC;FMTTYPE=text/html:<p>Friday\, August 1\, 2025<br />\n10:30 a.m. &ndash\; 12:00 p.m.<br />\nCape Ann Museum Courtyard\, Downtown Campus<br />\n27 Pleasant St\, Gloucester\, MA\, 01930<br />\n<em>$10 for CAM Members\, $20 for non-members</em><br />\n<a href="https://115461a.blackbaudhosting.com/115461a/Waterfront-Reflections-Gloucesters-Harbor-Village-Walking-Tour-01Aug2025" style="box-sizing: border-box\; margin: 0px\; padding: 0px\; border-width: 0px 0px 1px\; border-top-style: initial\; border-right-style: initial\; border-bottom-style: solid\; border-left-style: initial\; border-color: rgb(211\, 211\, 211)\; border-image: initial\; font-variant: inherit\; font-weight: inherit\; font-stretch: inherit\; font-size: inherit\; line-height: inherit\; font-family: inherit\; font-optical-sizing: inherit\; font-size-adjust: inherit\; font-kerning: inherit\; font-feature-settings: inherit\; font-variation-settings: inherit\; vertical-align: baseline\; text-decoration-line: none\; outline: 0px\; max-width: 100%\; color: rgb(37\, 119\, 160)\; transition: color 0.2s\;"><em>Registration Required</em></a></p>\n\n<p>This walking tour looks at changes in Gloucester&rsquo\;s Harbor Village as it advanced from the home of a few to the workplace of many during the late 18th to early 20th centuries.&nbsp\;&nbsp\;A mix of structures past and present\, heroes\, art\, and waterfront activity all inform the picture of the diverse and vibrant community that&nbsp\;emerged&nbsp\;along the shore of Le Beauport\, the beautiful port.</p>\n\n<p>Stroll with a CAM Docent for about 1 1/2 hours in downtown Gloucester.</p>\n\n<h5>Where to Meet?</h5>\n\n<p>Though the Downtown Campus is currently closed for renovations until the spring of 2026\, the tour will gather at the courtyard attached to the Museum on 27 Pleasant Street. Tours are light rain or shine.</p>\n\n<p><em>Photo Credit: CAM docent leading walking tour\, CAM staff photo.</em></p>\n
LOCATION:Cape Ann Museum Courtyard\, Downtown Campus 27 Pleasant St\, Gloucester\, MA\, 01930
UID:e.2981.37399
SEQUENCE:3
DTSTAMP:20260424T235312Z
URL:https://business.capeannchamber.com/events/details/waterfront-reflections-gloucester-s-harbor-village-walking-tour-37399
END:VEVENT

END:VCALENDAR
