BEGIN:VCALENDAR
VERSION:2.0
PRODID:-//ChamberMaster//Event Calendar 2.0//EN
METHOD:PUBLISH
X-PUBLISHED-TTL:P3D
REFRESH-INTERVAL:P3D
CALSCALE:GREGORIAN
BEGIN:VEVENT
DTSTART:20250726T143000Z
DTEND:20250726T160000Z
X-MICROSOFT-CDO-ALLDAYEVENT:FALSE
SUMMARY:Walking Tour: Public Sculpture of Gloucester
DESCRIPTION:Saturday\, July 26\, 2025\n\n10:30 a.m.   12:00 p.m.\n\nMeet outside the CAM Downtown Campus\n\n27 Pleasant St\, Gloucester\, MA\, 01930\n\n$10 for Members\, $20 for Non-Members\n\nRegistration Required\n\nGloucester has been home to a number of prominent American sculptors. Take a tour of public works by these important artists found around the city's downtown area. The tour is approximately 1 hour in length and is weather permitting.\n\n \n\nImage Credit: Albert Henry Atkins (1880-1951). Spirit of the Sea\, 1915\, bronze. Collection of Cape Ann Museum. Gift of Donald and Lila Monell\, 2006 [Accession # 2006.22]
X-ALT-DESC;FMTTYPE=text/html:<p>Saturday\, July 26\, 2025<br />\n10:30 a.m. &ndash\; 12:00 p.m.<br />\nMeet outside the CAM Downtown Campus<br />\n27 Pleasant St\, Gloucester\, MA\, 01930<br />\n<em>$10 for Members\, $20 for Non-Members</em><br />\n<em><a href="https://115461a.blackbaudhosting.com/115461a/Public-Sculpture-of-Gloucester" style="box-sizing: border-box\; margin: 0px\; padding: 0px\; border-width: 0px 0px 1px\; border-top-style: initial\; border-right-style: initial\; border-bottom-style: solid\; border-left-style: initial\; border-color: rgb(211\, 211\, 211)\; border-image: initial\; font-style: normal\; font-variant: inherit\; font-weight: inherit\; font-stretch: inherit\; font-size: inherit\; line-height: inherit\; font-family: inherit\; font-optical-sizing: inherit\; font-size-adjust: inherit\; font-kerning: inherit\; font-feature-settings: inherit\; font-variation-settings: inherit\; vertical-align: baseline\; text-decoration-line: none\; outline: 0px\; max-width: 100%\; color: rgb(37\, 119\, 160)\; transition: color 0.2s\;">Registration Required</a></em></p>\n\n<p>Gloucester has been home to a number of prominent American sculptors. Take a tour of public works by these important artists found around the city&rsquo\;s downtown area. The tour is approximately 1 hour in length and is weather permitting.</p>\n\n<p>&nbsp\;</p>\n\n<p><em>Image Credit: Albert Henry Atkins (1880-1951).&nbsp\;Spirit of the Sea\, 1915\, bronze. Collection of Cape Ann Museum. Gift of Donald and Lila Monell\, 2006 [Accession # 2006.22]</em></p>\n
LOCATION:Meet outside the CAM Downtown Campus 27 Pleasant St\, Gloucester\, MA\, 01930
UID:e.2981.37397
SEQUENCE:3
DTSTAMP:20260424T223444Z
URL:https://business.capeannchamber.com/events/details/walking-tour-public-sculpture-of-gloucester-07-26-2025-37397
END:VEVENT

END:VCALENDAR
