BEGIN:VCALENDAR
VERSION:2.0
PRODID:-//ChamberMaster//Event Calendar 2.0//EN
METHOD:PUBLISH
X-PUBLISHED-TTL:P3D
REFRESH-INTERVAL:P3D
CALSCALE:GREGORIAN
BEGIN:VEVENT
DTSTART:20251025T143000Z
DTEND:20251025T160000Z
X-MICROSOFT-CDO-ALLDAYEVENT:FALSE
SUMMARY:Walking Tour: Granite Pier and Quarries
DESCRIPTION:Saturday\, October 25\, 2025\n\n10:30 a.m.   12:00 p.m.\n\nGranite Pier\n\n16 Wharf Road\, Rockport\, MA\, 01966\n\n$15 for CAM Members\, $25 for non-members\n\n(Parking fee and a bottle of water are covered!)\n\nRegistration Required\n\n\n\nJoin a CAM Docent for a special walking tour to learn about Cape Ann's Granite Industry while viewing actual sites where granite quarrying took place and left its mark including the Granite Pier\, Keystone Bridge\, Flat Ledge Quarry\, Rockport Granite Company Square\, Little Parker's Pit\, and more!\n\n\n\nThe walk is approximately 1.5 miles and lasts about 90 minutes. Please wear walking shoes and bring weather-appropriate attire. Please note that some portions of the tour involve trails that are generally easy\, but can be uneven\, with rocks and roots underfoot.\n\n\n\nWhere to Meet?\n\nMeet at Granite Pier\, Rockport\, MA. Parking passes distributed upon arrival. Tours are light rain or shine.\n\n\n\nPhoto Credit: CAM docent leading walking tour\, CAM staff photo.
X-ALT-DESC;FMTTYPE=text/html:Saturday\, October 25\, 2025<br />\n10:30 a.m. &ndash\; 12:00 p.m.<br />\nGranite Pier<br />\n16 Wharf Road\, Rockport\, MA\, 01966<br />\n$15 for CAM Members\, $25 for non-members<br />\n(Parking fee and a bottle of water are covered!)<br />\nRegistration Required<br />\n<br />\nJoin a CAM Docent for a special walking tour to learn about Cape Ann&rsquo\;s Granite Industry while viewing actual sites where granite quarrying took place and left its mark&mdash\;including the Granite Pier\, Keystone Bridge\, Flat Ledge Quarry\, Rockport Granite Company Square\, Little Parker&rsquo\;s Pit\, and more!<br />\n<br />\nThe walk is approximately 1.5 miles and lasts about 90 minutes. Please wear walking shoes and bring weather-appropriate attire. Please note that some portions of the tour involve trails that are generally easy\, but can be uneven\, with rocks and roots underfoot.<br />\n<br />\nWhere to Meet?<br />\nMeet at Granite Pier\, Rockport\, MA. Parking passes distributed upon arrival. Tours are light rain or shine.<br />\n<br />\nPhoto Credit: CAM docent leading walking tour\, CAM staff photo.
LOCATION:Granite Pier 16 Wharf Road\, Rockport\, MA\, 01966
UID:e.2981.45141
SEQUENCE:3
DTSTAMP:20260425T024125Z
URL:https://business.capeannchamber.com/events/details/walking-tour-granite-pier-and-quarries-45141
END:VEVENT

END:VCALENDAR
