BEGIN:VCALENDAR
VERSION:2.0
PRODID:-//ChamberMaster//Event Calendar 2.0//EN
METHOD:PUBLISH
X-PUBLISHED-TTL:P3D
REFRESH-INTERVAL:P3D
CALSCALE:GREGORIAN
BEGIN:VEVENT
DTSTART:20250808T143000Z
DTEND:20250808T160000Z
X-MICROSOFT-CDO-ALLDAYEVENT:FALSE
SUMMARY:Walking Tour: Ed & Jo Hopper’s Houses\, Views from Portuguese Hill
DESCRIPTION:Friday\, August 8\, 2025\n\n10:30 a.m.   12:00 p.m.\n\nCape Ann Museum Courtyard\, Downtown Campus\n\n27 Pleasant St\, Gloucester\, MA\, 01930\n\n$10 for CAM Members\, $20 for non-members\n\nRegistration Required\n\nExplore the specific sites in the area of Gloucester known as Portuguese Hill depicted by renowned American realist painter Edward Hopper (1882-1967). Hopper is known to have painted in Gloucester on five separate occasions in the first decades of the 20th century. His paintings from this period capture the local landscape and architecture in a loosely rendered\, light-filled style and are considered by many to be some of his finest works. Also included are sites painted by Josephine Nivison Hopper (1883-1968)\, Hopper's wife and artist in her own right\, whose work gained recognition long before her future husband's success. Learn how this hillside neighborhood that the Hoppers travelled together inspired their artwork\, as well as the role the area plays in Gloucester history.\n\nIf you have enjoyed one of our Hopper's Houses Downtown tours\, the Portuguese Hill tour takes you to another side of the city to see different views. It's well worth the experience!\n\nStroll with a CAM Docent for about 1 1/2 hours towards Portuguese Hill and back to downtown Gloucester. This walking tour includes steep stairs and a length of the hill.\n\nWhere to Meet?\n\nThough the Downtown Campus is currently closed for renovations until the spring of 2026\, the tour will gather at the courtyard attached to the Museum on 27 Pleasant Street. Tours are light rain or shine.\n\nPhoto Credit: CAM docent leading walking tour\, CAM staff photo.
X-ALT-DESC;FMTTYPE=text/html:<p>Friday\, August 8\, 2025<br />\n10:30 a.m. &ndash\; 12:00 p.m.<br />\nCape Ann Museum Courtyard\, Downtown Campus<br />\n27 Pleasant St\, Gloucester\, MA\, 01930<br />\n<em>$10 for CAM Members\, $20 for non-members</em><br />\n<a href="https://115461a.blackbaudhosting.com/115461a/Ed--Jo-Hoppers-Houses-Views-from-Portuguese-Hill-08Aug2025" style="box-sizing: border-box\; margin: 0px\; padding: 0px\; border-width: 0px 0px 1px\; border-top-style: initial\; border-right-style: initial\; border-bottom-style: solid\; border-left-style: initial\; border-color: rgb(211\, 211\, 211)\; border-image: initial\; font-variant: inherit\; font-weight: inherit\; font-stretch: inherit\; font-size: inherit\; line-height: inherit\; font-family: inherit\; font-optical-sizing: inherit\; font-size-adjust: inherit\; font-kerning: inherit\; font-feature-settings: inherit\; font-variation-settings: inherit\; vertical-align: baseline\; text-decoration-line: none\; outline: 0px\; max-width: 100%\; color: rgb(37\, 119\, 160)\; transition: color 0.2s\;"><em>Registration Required</em></a></p>\n\n<p>Explore the specific sites&nbsp\;in the area of&nbsp\;Gloucester known as Portuguese Hill depicted by renowned American realist painter Edward Hopper (1882-1967).&nbsp\;Hopper is known to have painted in Gloucester on five separate occasions in the first decades of the 20th century.&nbsp\;His paintings from this period capture the local landscape and architecture in a loosely&nbsp\;rendered\, light-filled style and are considered by many to be some of his finest works.&nbsp\;Also included are sites painted by Josephine Nivison Hopper (1883-1968)\, Hopper&rsquo\;s wife and artist in her own right\, whose work gained recognition long before her future husband&rsquo\;s success.&nbsp\;Learn how this hillside neighborhood&nbsp\;that&nbsp\;the Hoppers travelled together inspired their artwork\, as well as the role the area plays in Gloucester history.</p>\n\n<p>If you have enjoyed one of our Hopper&rsquo\;s Houses Downtown tours\, the Portuguese Hill tour takes you to another side of the city to see different views. It&rsquo\;s well worth the experience!</p>\n\n<p>Stroll with a CAM Docent for about 1 1/2 hours towards Portuguese Hill and back to downtown Gloucester.&nbsp\;This walking tour includes steep stairs and a length of the hill.</p>\n\n<h5>Where to Meet?</h5>\n\n<p>Though the Downtown Campus is currently closed for renovations until the spring of 2026\, the tour will gather at the courtyard attached to the Museum on 27 Pleasant Street. Tours are light rain or shine.</p>\n\n<p><em>Photo Credit: CAM docent leading walking tour\, CAM staff photo.</em></p>\n
LOCATION:Cape Ann Museum Courtyard\, Downtown Campus 27 Pleasant St\, Gloucester\, MA\, 01930
UID:e.2981.37392
SEQUENCE:3
DTSTAMP:20260425T000204Z
URL:https://business.capeannchamber.com/events/details/walking-tour-ed-jo-hopper-s-houses-views-from-portuguese-hill-37392
END:VEVENT

END:VCALENDAR
