BEGIN:VCALENDAR
VERSION:2.0
PRODID:-//ChamberMaster//Event Calendar 2.0//EN
METHOD:PUBLISH
X-PUBLISHED-TTL:P3D
REFRESH-INTERVAL:P3D
CALSCALE:GREGORIAN
BEGIN:VEVENT
DTSTART:20251031T143000Z
DTEND:20251031T160000Z
X-MICROSOFT-CDO-ALLDAYEVENT:FALSE
SUMMARY:Walking Tour: Bones of Homes
DESCRIPTION:Friday\, October 31\, 2025\n\n10:30 a.m.   12:00 p.m.\n\nCape Ann Museum Courtyard\, Downtown Campus\n\n27 Pleasant St\, Gloucester\, MA\, 01930\n\n$10 for CAM Members\, $20 for non-members\n\nRegistration Required\n\n\n\nThis walking tour provides participants with an architectural overview of Gloucester building styles from the mid-18th to the mid-20th century. On this tour of the area immediately surrounding the Cape Ann Museum's Downtown Campus\, participants will learn about architectural elements and styles that arose out of specific socioeconomic and cultural circumstances during this critical 200-year period in the City's development.\n\n\n\nStroll with a CAM Docent for about 1 1/2 hours as you loop around downtown Gloucester. Please note that some sidewalks on the tour are rugged and uneven and not all fit the width of wheelchairs or walkers.\n\n\n\nWhere to Meet?\n\nThough the Downtown Campus is currently closed for renovations until the spring of 2026\, the tour will gather at the courtyard attached to the Museum on 27 Pleasant Street. Tours are light rain or shine.\n\n\n\nPhoto Credit: CAM docent leading walking tour\, CAM staff photo.
X-ALT-DESC;FMTTYPE=text/html:Friday\, October 31\, 2025<br />\n10:30 a.m. &ndash\; 12:00 p.m.<br />\nCape Ann Museum Courtyard\, Downtown Campus<br />\n27 Pleasant St\, Gloucester\, MA\, 01930<br />\n$10 for CAM Members\, $20 for non-members<br />\nRegistration Required<br />\n<br />\nThis walking tour provides participants with an architectural overview of Gloucester building styles from the mid-18th to the mid-20th century. On this tour of the area immediately surrounding the Cape Ann Museum&rsquo\;s Downtown Campus\, participants will learn about architectural elements and styles that arose out of specific socioeconomic and cultural circumstances during this critical 200-year period in the City&rsquo\;s development.<br />\n<br />\nStroll with a CAM Docent for about 1 1/2 hours as you loop around downtown Gloucester. Please note that some sidewalks on the tour are rugged and uneven and not all fit the width of wheelchairs or walkers.<br />\n<br />\nWhere to Meet?<br />\nThough the Downtown Campus is currently closed for renovations until the spring of 2026\, the tour will gather at the courtyard attached to the Museum on 27 Pleasant Street. Tours are light rain or shine.<br />\n<br />\nPhoto Credit: CAM docent leading walking tour\, CAM staff photo.
LOCATION:Cape Ann Museum Courtyard\, Downtown Campus 27 Pleasant St\, Gloucester\, MA\, 01930
UID:e.2981.45137
SEQUENCE:3
DTSTAMP:20260425T024400Z
URL:https://business.capeannchamber.com/events/details/walking-tour-bones-of-homes-10-31-2025-45137
END:VEVENT

END:VCALENDAR
