BEGIN:VCALENDAR
VERSION:2.0
PRODID:-//ChamberMaster//Event Calendar 2.0//EN
METHOD:PUBLISH
X-PUBLISHED-TTL:P3D
REFRESH-INTERVAL:P3D
CALSCALE:GREGORIAN
BEGIN:VEVENT
DTSTART:20250912T143000Z
DTEND:20250912T160000Z
X-MICROSOFT-CDO-ALLDAYEVENT:FALSE
SUMMARY:Walking Tour: Bones of Homes
DESCRIPTION:Friday\, September 12\, 2025\n\n10:30 a.m.   12:00 p.m.\n\nCape Ann Museum Courtyard\, Downtown Campus\n\n27 Pleasant St\, Gloucester\, MA\, 01930\n\n$10 for CAM Members\, $20 for non-members\n\nRegistration Required\n\nThis walking tour provides participants with an architectural overview of Gloucester building styles from the mid-18th to the mid-20th century. On this tour of the area immediately surrounding the Cape Ann Museum's Downtown Campus\, participants will learn about architectural elements and styles that arose out of specific socioeconomic and cultural circumstances during this critical 200-year period in the City's development.\n\nStroll with a CAM Docent for about 1 1/2 hours as you loop around downtown Gloucester.\n\nWhere to Meet?\n\nThough the Downtown Campus is currently closed for renovations until the spring of 2026\, the tour will gather at the courtyard attached to the Museum on 27 Pleasant Street. Tours are light rain or shine.\n\nPhoto Credit: CAM docent leading walking tour\, CAM staff photo.
X-ALT-DESC;FMTTYPE=text/html:<p>Friday\, September 12\, 2025<br />\n10:30 a.m. &ndash\; 12:00 p.m.<br />\nCape Ann Museum Courtyard\, Downtown Campus<br />\n27 Pleasant St\, Gloucester\, MA\, 01930<br />\n<em>$10 for CAM Members\, $20 for non-members</em><br />\n<a href="https://115461a.blackbaudhosting.com/115461a/Bones-of-Homes-Walking-Tour-12Sep2025" style="box-sizing: border-box\; margin: 0px\; padding: 0px\; border-width: 0px 0px 1px\; border-top-style: initial\; border-right-style: initial\; border-bottom-style: solid\; border-left-style: initial\; border-color: rgb(211\, 211\, 211)\; border-image: initial\; font-variant: inherit\; font-weight: inherit\; font-stretch: inherit\; font-size: inherit\; line-height: inherit\; font-family: inherit\; font-optical-sizing: inherit\; font-size-adjust: inherit\; font-kerning: inherit\; font-feature-settings: inherit\; font-variation-settings: inherit\; vertical-align: baseline\; text-decoration-line: none\; outline: 0px\; max-width: 100%\; color: rgb(37\, 119\, 160)\; transition: color 0.2s\;"><em>Registration Required</em></a></p>\n\n<p>This walking tour provides participants with an architectural overview of Gloucester building styles from the mid-18th to the mid-20th century. On this tour of the area immediately surrounding the Cape Ann Museum&rsquo\;s Downtown Campus\, participants will learn about architectural elements and styles that arose out of specific socioeconomic and cultural circumstances during this critical 200-year period in the City&rsquo\;s development.</p>\n\n<p>Stroll with a CAM Docent for about 1 1/2 hours as you loop around downtown Gloucester.</p>\n\n<h5>Where to Meet?</h5>\n\n<p>Though the Downtown Campus is currently closed for renovations until the spring of 2026\, the tour will gather at the courtyard attached to the Museum on 27 Pleasant Street. Tours are light rain or shine.</p>\n\n<p><em>Photo Credit: CAM docent leading walking tour\, CAM staff photo.</em></p>\n
LOCATION:Cape Ann Museum Courtyard\, Downtown Campus 27 Pleasant St\, Gloucester\, MA\, 01930
UID:e.2981.37412
SEQUENCE:3
DTSTAMP:20260425T011448Z
URL:https://business.capeannchamber.com/events/details/walking-tour-bones-of-homes-09-12-2025-37412
END:VEVENT

END:VCALENDAR
