BEGIN:VCALENDAR
VERSION:2.0
PRODID:-//ChamberMaster//Event Calendar 2.0//EN
METHOD:PUBLISH
X-PUBLISHED-TTL:P3D
REFRESH-INTERVAL:P3D
CALSCALE:GREGORIAN
BEGIN:VEVENT
DTSTART:20251107T180000Z
DTEND:20251107T190000Z
X-MICROSOFT-CDO-ALLDAYEVENT:FALSE
SUMMARY:Walking Club
DESCRIPTION:Join the Cape Ann YMCA's Walking Group exploring Cape Ann's history and nature.\n\n\n\nThree opportunities to get outside and explore our beautiful and scenic region.\n\n\n\nRavenswood Walk - Tuesday Oct 14\n\nHalibut Point State Park Walk - Thursday Oct 30\n\nCoolidge Reservation Walk - Friday Nov 7
X-ALT-DESC;FMTTYPE=text/html:Join the Cape Ann YMCA&#39\;s Walking Group exploring Cape Ann&#39\;s history and nature.<br />\n<br />\nThree opportunities to get outside and explore our beautiful and scenic region.<br />\n<br />\nRavenswood Walk - Tuesday Oct 14<br />\nHalibut Point State Park Walk - Thursday Oct 30<br />\nCoolidge Reservation Walk - Friday Nov 7
LOCATION:
UID:e.2981.45091
SEQUENCE:3
DTSTAMP:20260422T060147Z
URL:https://business.capeannchamber.com/events/details/walking-club-45091
END:VEVENT

END:VCALENDAR
