BEGIN:VCALENDAR
VERSION:2.0
PRODID:-//ChamberMaster//Event Calendar 2.0//EN
METHOD:PUBLISH
X-PUBLISHED-TTL:P3D
REFRESH-INTERVAL:P3D
CALSCALE:GREGORIAN
BEGIN:VEVENT
DTSTART:20201217T223000Z
DTEND:20201217T231500Z
X-MICROSOFT-CDO-ALLDAYEVENT:FALSE
SUMMARY:Virtual Workshop: DIY Edible Gifts
DESCRIPTION:Join Backyard Growers on Zoom for a hands-on demo of a seasonal simple syrup and festive snacks that are perfect for last-minute foodie holiday gifts\, or just a tasty treat for you!\n\nTickets: $15 general admission / $7.50 for 2020-19 participants in Backyard Growers' backyard and community garden programs\n\nClick here to purchase tickets.\n\nAt this interactive virtual workshop\, attendees will learn how to whip up:\n\n? a cranberry-spiced syrup for use in a festive margarita\, seasonal cider\, or a holiday limeade\,\n\n?? cinnamon citrus sugar salt for a margarita or mocktail glass rim\, or a topping for popcorn\,\n\n? delicious savory homemade cheese crackers\n\nTicket purchasers will receive ingredient lists\, recipes\, and gift-wrap recommendations ahead of time in case they want to prepare gifts and cook together during the workshop - or\, just join us to be merry and enjoy a fun evening together\, with the chance to ask questions.\n\nProceeds support Backyard Growers' work connecting kids\, seniors\, and families to the resources they need to grow their own food at schools\, in backyards\, and at community gardens.\n\nThe workshop will be led by Cecily McAndrews\, editor and food writer with experience writing for outlets including Food Network Magazine\, Rachael Ray In Season\, and Pioneer Woman Magazine. She has degrees from the Institute for Culinary Education and Mount Holyoke College. Currently\, she edits cookbooks at Callisto Media\, bakes whenever she can\, and contemplates what to make for dinner.
X-ALT-DESC;FMTTYPE=text/html:<p>Join Backyard Growers on Zoom for a hands-on demo of a seasonal simple syrup and festive snacks that are perfect for last-minute foodie holiday gifts\, or just a tasty treat for you!</p>\n\n<p>Tickets: $15 general admission / $7.50 for 2020-19 participants in Backyard Growers&#39\; backyard and community garden programs</p>\n\n<p><a href="https://bit.ly/BYGDIYEdibleGifts" style="background: transparent\; text-decoration-line: none\; color: rgb(61\, 153\, 145)\; overflow-wrap: break-word\;">Click here to purchase tickets.</a></p>\n\n<p>At this interactive virtual workshop\, attendees will learn how to whip up:</p>\n\n<p>? a cranberry-spiced syrup for use in a festive margarita\, seasonal cider\, or a holiday limeade\,</p>\n\n<p>?? cinnamon citrus sugar salt for a margarita or mocktail glass rim\, or a topping for popcorn\,</p>\n\n<p>? delicious savory homemade cheese crackers</p>\n\n<p>Ticket purchasers will receive ingredient lists\, recipes\, and gift-wrap recommendations ahead of time in case they want to prepare gifts and cook together during the workshop - or\, just join us to be merry and enjoy a fun evening together\, with the chance to ask questions.</p>\n\n<p>Proceeds support Backyard Growers&#39\; work connecting kids\, seniors\, and families to the resources they need to grow their own food at schools\, in backyards\, and at community gardens.</p>\n\n<p>The workshop will be led by Cecily McAndrews\, editor and food writer with experience writing for outlets including Food Network Magazine\, Rachael Ray In Season\, and Pioneer Woman Magazine. She has degrees from the Institute for Culinary Education and Mount Holyoke College. Currently\, she edits cookbooks at Callisto Media\, bakes whenever she can\, and contemplates what to make for dinner.</p>\n
LOCATION:Zoom
UID:e.2981.20645
SEQUENCE:3
DTSTAMP:20260419T194707Z
URL:https://business.capeannchamber.com/events/details/virtual-workshop-diy-edible-gifts-20645
END:VEVENT

END:VCALENDAR
