BEGIN:VCALENDAR
VERSION:2.0
PRODID:-//ChamberMaster//Event Calendar 2.0//EN
METHOD:PUBLISH
X-PUBLISHED-TTL:P3D
REFRESH-INTERVAL:P3D
CALSCALE:GREGORIAN
BEGIN:VEVENT
DTSTART:20250625T220000Z
DTEND:20250626T000000Z
X-MICROSOFT-CDO-ALLDAYEVENT:FALSE
SUMMARY:Vino & Vinyasa
DESCRIPTION:Enjoy breathtaking views of the Atlantic while sipping on some delicious vino on a beautiful summer evening. We have partnered with The Salty Buddah in Salem to provide a relaxing one-hour yoga class. Following the class\, enjoy a glass of wine and cheese and crackers\, included with your ticket. Additional wine will be available for purchase. Please provide your own yoga mat.\n\nVisit The Salty Buddah's website to see a complete list of class offerings\, as well as other workshops and retreats.\n\n*In the event of rain\, the event will be held in the Misselwood tent\n\n*21+ event
X-ALT-DESC;FMTTYPE=text/html:<p>Enjoy breathtaking views of the Atlantic while sipping on some delicious vino on a beautiful summer evening. We have partnered with The Salty Buddah in Salem to provide a relaxing one-hour yoga class. Following the class\, enjoy a glass of wine and cheese and crackers\, included with your ticket. Additional wine will be available for purchase. Please provide your own yoga mat.</p>\n\n<p>Visit The Salty Buddah&#39\;s&nbsp\;<a href="https://thesaltybuddha.com/" rel="nofollow noopener noreferrer" style="background-color: transparent\; color: var(--eds-control\,#3659e3)\; box-sizing: border-box\; padding-top: 0px\;" target="_blank" title="https://thesaltybuddha.com/">website&nbsp\;</a>to see a complete list of class offerings\, as well as other workshops and retreats.</p>\n\n<p>*In the event of rain\, the event will be held in the Misselwood tent</p>\n\n<p>*21+ event</p>\n
LOCATION:Misselwood Events at Endicott College 407 Hale Street Beverly\, MA 01915
UID:e.2981.34999
SEQUENCE:3
DTSTAMP:20260424T211204Z
URL:https://business.capeannchamber.com/events/details/vino-vinyasa-06-25-2025-34999
END:VEVENT

END:VCALENDAR
