BEGIN:VCALENDAR
VERSION:2.0
PRODID:-//ChamberMaster//Event Calendar 2.0//EN
METHOD:PUBLISH
X-PUBLISHED-TTL:P3D
REFRESH-INTERVAL:P3D
CALSCALE:GREGORIAN
BEGIN:VEVENT
DTSTART:20250621T130000Z
DTEND:20250621T153000Z
X-MICROSOFT-CDO-ALLDAYEVENT:FALSE
SUMMARY:View the Battle of Bunker Hill Reenactment from Schooner Adventure!
DESCRIPTION:Join Schooner Adventure\, a National Historic Landmark\, as we anchor off Stage Fort Park to view Gloucester's dramatic Battle of Bunker Hill from the water. We're not part of the battle\, but we're here to cheer on the reenactors!\n\n\n	www.battleofbunkerhill250.com\n	Onboard light refreshments\n	History\, beauty & maritime charm\n	$60 | kids 17 and under free*
X-ALT-DESC;FMTTYPE=text/html:Join Schooner Adventure\, a National Historic Landmark\, as we anchor off Stage Fort Park to view Gloucester&rsquo\;s dramatic Battle of Bunker Hill from the water. We&rsquo\;re not part of the battle\, but we&rsquo\;re here to cheer on the reenactors!\n<div>\n<ul>\n	<li><span style="color:rgb(13\, 40\, 57)">www.battleofbunkerhill250.com</span></li>\n	<li><span style="color:rgb(13\, 40\, 57)">Onboard light refreshments</span></li>\n	<li><span style="color:rgb(13\, 40\, 57)">History\, beauty &amp\; maritime charm</span></li>\n	<li><span style="color:rgb(13\, 40\, 57)">$60 |</span><span style="color:rgb(13\, 40\, 57)"> </span><span style="color:rgb(13\, 40\, 57)">kids 17 and under free*</span></li>\n</ul>\n</div>\n
LOCATION:Departs 23 Harbor Loop Gloucester MA Anchor off Stage Fort Park Gloucester MA
UID:e.2981.37297
SEQUENCE:3
DTSTAMP:20260424T211557Z
URL:https://business.capeannchamber.com/events/details/view-the-battle-of-bunker-hill-reenactment-from-schooner-adventure-37297
END:VEVENT

END:VCALENDAR
