BEGIN:VCALENDAR
VERSION:2.0
PRODID:-//ChamberMaster//Event Calendar 2.0//EN
METHOD:PUBLISH
X-PUBLISHED-TTL:P3D
REFRESH-INTERVAL:P3D
CALSCALE:GREGORIAN
BEGIN:VEVENT
DTSTART:20140703T230000Z
DTEND:20140704T020000Z
X-MICROSOFT-CDO-ALLDAYEVENT:FALSE
SUMMARY:View Gloucester's Fireworks at Beauport
DESCRIPTION:Experience Gloucester's annual fireworks display from the terrace and lawn of Beauport.. Bring blankets\, chairs\, picnics\, and mosquito spray. Candles are prohibited. The house is open for abridged tours on the half-hour. Adults and children over twelve only\, please.\n$10 Historic New England members\, $18 nonmembers
X-ALT-DESC;FMTTYPE=text/html:Experience Gloucester's annual fireworks display from the terrace and lawn of Beauport.. Bring blankets\, chairs\, picnics\, and mosquito spray. Candles are prohibited. The house is open for abridged tours on the half-hour. Adults and children over twelve only\, please.\n$10 Historic New England members\, $18 nonmembers
LOCATION:75 Eastern Point Blvd.\, Gloucester\, MA 01930 Take Route I-95/128 north to the end. At second set of lights after the second rotary\, take East Main Street 1.5 miles\, approximately eight minutes\, to the stone pillars at the entrance to Eastern Point Boulevard. Proceed through the pillars and follow Eastern Point Boulevard .5 mile to Beauport. Parking: The Beauport parking lot is across the street from the house.
UID:e.2981.1346
SEQUENCE:3
DTSTAMP:20260419T155051Z
URL:https://business.capeannchamber.com/events/details/view-gloucester-s-fireworks-at-beauport-07-03-2014-1346
END:VEVENT

END:VCALENDAR
