BEGIN:VCALENDAR
VERSION:2.0
PRODID:-//ChamberMaster//Event Calendar 2.0//EN
METHOD:PUBLISH
X-PUBLISHED-TTL:P3D
REFRESH-INTERVAL:P3D
CALSCALE:GREGORIAN
BEGIN:VEVENT
DTSTART:20221114T000000Z
DTEND:20221114T020000Z
X-MICROSOFT-CDO-ALLDAYEVENT:FALSE
SUMMARY:Valerie June at Shalin Liu
DESCRIPTION:An extraordinarily talented singer-songwriter who blends folk with astral soul\, Valerie June makes her Rockport debut\, touring on the heels of her newest record The Moon and Stars: Prescriptions for Dreamers.
X-ALT-DESC;FMTTYPE=text/html:An extraordinarily talented singer-songwriter who blends folk with astral soul\, Valerie June makes her Rockport debut\, touring on the heels of her newest record&nbsp\;<em>The Moon and Stars: Prescriptions for Dreamers</em>.
LOCATION:Shalin Liu Performance Center 37 Main St. Rockport\, MA 01966
UID:e.2981.23070
SEQUENCE:3
DTSTAMP:20260424T110414Z
URL:https://business.capeannchamber.com/events/details/valerie-june-at-shalin-liu-23070
END:VEVENT

END:VCALENDAR
