BEGIN:VCALENDAR
VERSION:2.0
PRODID:-//ChamberMaster//Event Calendar 2.0//EN
METHOD:PUBLISH
X-PUBLISHED-TTL:P3D
REFRESH-INTERVAL:P3D
CALSCALE:GREGORIAN
BEGIN:VEVENT
DTSTART:20250111T003000Z
DTEND:20250111T023000Z
X-MICROSOFT-CDO-ALLDAYEVENT:FALSE
SUMMARY:Upstairs on Main: Songwriter's Circle: Roots-Rock & Soul
DESCRIPTION:Join Cape Ann's own Dan King as he goes back to his roots in Rockport to host a classic Song Circle. Enjoy a relaxed\, caf -style evening where four experienced songwriters share songs and stories\, offering a unique and engaging musical experience.
X-ALT-DESC;FMTTYPE=text/html:<span style="background-color:rgb(250\, 250\, 250)\; color:rgb(0\, 0\, 0)\; font-family:open sans\,helvetica neue\,helvetica\,arial\,sans-serif\; font-size:18px">Join Cape Ann&rsquo\;s own Dan King as he goes back to his roots in Rockport to host a classic Song Circle. Enjoy a relaxed\, caf&eacute\;-style evening where four experienced songwriters share songs and stories\, offering a unique and engaging musical experience.</span>
LOCATION:37 Main St\, Rockport\, MA 01966
UID:e.2981.34251
SEQUENCE:3
DTSTAMP:20260424T164945Z
URL:https://business.capeannchamber.com/events/details/upstairs-on-main-songwriter-s-circle-roots-rock-soul-34251
END:VEVENT

END:VCALENDAR
