BEGIN:VCALENDAR
VERSION:2.0
PRODID:-//ChamberMaster//Event Calendar 2.0//EN
METHOD:PUBLISH
X-PUBLISHED-TTL:P3D
REFRESH-INTERVAL:P3D
CALSCALE:GREGORIAN
BEGIN:VEVENT
DTSTART:20250201T003000Z
DTEND:20250201T023000Z
X-MICROSOFT-CDO-ALLDAYEVENT:FALSE
SUMMARY:Upstairs on Main: Headlands
DESCRIPTION:Rockport's own beloved Americana band returns with their exciting three-part vocals\, putting their stamp on whichever musical genre they choose. Whether an acoustic trio or a full-blown rock band with percussion\, fiddle and horns\, enjoy Headland's thrilling harmonies\, tight arrangements and humor!
X-ALT-DESC;FMTTYPE=text/html:<span style="background-color:rgb(250\, 250\, 250)\; color:rgb(0\, 0\, 0)\; font-family:open sans\,helvetica neue\,helvetica\,arial\,sans-serif\; font-size:18px">Rockport&rsquo\;s own beloved Americana band returns with their exciting three-part vocals\, putting their stamp on whichever musical genre they choose. Whether an acoustic trio or a full-blown rock band with percussion\, fiddle and horns\, enjoy Headland&#39\;s&nbsp\;thrilling harmonies\, tight arrangements and humor!</span>
LOCATION:37 Main St\, Rockport\, MA 01966
UID:e.2981.34256
SEQUENCE:3
DTSTAMP:20260424T164721Z
URL:https://business.capeannchamber.com/events/details/upstairs-on-main-headlands-01-31-2025-34256
END:VEVENT

END:VCALENDAR
