BEGIN:VCALENDAR
VERSION:2.0
PRODID:-//ChamberMaster//Event Calendar 2.0//EN
METHOD:PUBLISH
X-PUBLISHED-TTL:P3D
REFRESH-INTERVAL:P3D
CALSCALE:GREGORIAN
BEGIN:VEVENT
DTSTART:20241229T200000Z
DTEND:20241229T220000Z
X-MICROSOFT-CDO-ALLDAYEVENT:FALSE
SUMMARY:Upstairs on Main: Cassandre McKinley
DESCRIPTION:Cassandre McKinley channels a vast spectrum of genres that include soul\, jazz\, blues\, R&B\, pop and country\, and has unwittingly unified them into a singular sound that is primitively hers.
X-ALT-DESC;FMTTYPE=text/html:<span style="color:rgb(0\, 0\, 0)\; font-family:open sans\,arial\,helvetica\,sans-serif\; font-size:16px">Cassandre McKinley channels a vast spectrum of genres that include soul\, jazz\, blues\, R&amp\;B\, pop and country\, and has unwittingly unified them into a singular sound that is primitively hers.</span>
LOCATION:37 Main St\, Rockport\, MA 01966
UID:e.2981.34250
SEQUENCE:3
DTSTAMP:20260424T152717Z
URL:https://business.capeannchamber.com/events/details/upstairs-on-main-cassandre-mckinley-12-29-2024-34250
END:VEVENT

END:VCALENDAR
