BEGIN:VCALENDAR
VERSION:2.0
PRODID:-//ChamberMaster//Event Calendar 2.0//EN
METHOD:PUBLISH
X-PUBLISHED-TTL:P3D
REFRESH-INTERVAL:P3D
CALSCALE:GREGORIAN
BEGIN:VEVENT
DTSTART:20241221T003000Z
DTEND:20241221T023000Z
X-MICROSOFT-CDO-ALLDAYEVENT:FALSE
SUMMARY:Upstairs on Main: Cape Ann Guitar Society & Night Owls
DESCRIPTION:Get up close and personal with incredible local talent during our Upstairs on Main concert series! Celebrate the season with the Cape Ann Guitar Society's festive holiday concert\, where founder and award-winning classical guitarist Brendan Evans will fill the night with warmth and joy through captivating melodies\, from classical treasures to folk favorites!
X-ALT-DESC;FMTTYPE=text/html:<span style="background-color:rgb(250\, 250\, 250)\; color:rgb(0\, 0\, 0)\; font-family:open sans\,helvetica neue\,helvetica\,arial\,sans-serif\; font-size:18px">Get up close and personal with incredible local talent during our Upstairs on Main concert series! Celebrate the season with the Cape Ann Guitar Society&rsquo\;s festive holiday concert\, where founder and award-winning classical guitarist Brendan Evans will fill the night with warmth and joy through captivating melodies\, from classical treasures to folk favorites!</span>
LOCATION:37 Main St\, Rockport\, MA 01966
UID:e.2981.34249
SEQUENCE:3
DTSTAMP:20260424T152739Z
URL:https://business.capeannchamber.com/events/details/upstairs-on-main-cape-ann-guitar-society-night-owls-34249
END:VEVENT

END:VCALENDAR
