BEGIN:VCALENDAR
VERSION:2.0
PRODID:-//ChamberMaster//Event Calendar 2.0//EN
METHOD:PUBLISH
X-PUBLISHED-TTL:P3D
REFRESH-INTERVAL:P3D
CALSCALE:GREGORIAN
BEGIN:VEVENT
DTSTART:20241116T000000Z
DTEND:20241116T040000Z
X-MICROSOFT-CDO-ALLDAYEVENT:FALSE
SUMMARY:Undertone Benefit by the Sea featuring Clinton Fearon with The Naya Rockers
DESCRIPTION:11/15/24\n\nReserved Seating and G.A Standing. 7:00pm Doors / 8:00pm Show\n\n21+\, Positive I.D. Required. $40-$50\n\n\n\nClinton Fearon is a legendary roots reggae artist. His star power shines globally   as the lead singer of the immutable Gladiators. His message is in his music\, and he understands how the arts enhance local culture and can support environmental restoration. \n\n\n\nThe Naya Rockers are a backing band anchored by US-based drummer Nathan Sabanayagam. Naya Rockers have spent the past two decades touring and recording with the foundation of reggae\, including Stephen Marley\, Clinton Fearon\, Kiddus I\, and Barrington Levy.\n\n\n\nABOUT UNDERTONE\n\nUNDERTONE Benefit by the Sea is a series of music events that convene cultural influencers\, organizations\, community leaders\, and citizens who are making a positive impact. \n\n\n\nABOUT STRATLEADE\n\nA Tax Deductible 501c3 with a 15-year track record providing educational grants supporting the development of sustainability leaders on a global scale with a curriculum and education built on principles of systems thinking\, transformational change\, and critical decision-making. StratLeade s Educational Grant program supports training for promising sustainability leaders coming from underserved and under represented regions.
X-ALT-DESC;FMTTYPE=text/html:<span style="color:rgb(64\, 64\, 65)\; font-family:open sans\,sans-serif\; font-size:14px">11/15/24</span><br />\n<span style="color:rgb(64\, 64\, 65)\; font-family:open sans\,sans-serif\; font-size:14px">Reserved Seating and G.A Standing.&nbsp\;7:00pm Doors / 8:00pm Show</span><br />\n<span style="color:rgb(64\, 64\, 65)\; font-family:open sans\,sans-serif\; font-size:14px">21+\, Positive I.D. Required. $40-$50</span><br />\n<br />\n<span style="color:rgb(64\, 64\, 65)\; font-family:open sans\,sans-serif\; font-size:14px">Clinton Fearon is a legendary roots reggae artist. His star power shines globally &ndash\; as the lead singer of the immutable Gladiators. His message is in his music\, and he understands how the arts enhance local culture and can support environmental restoration.&nbsp\;</span><br />\n<br />\n<span style="color:rgb(64\, 64\, 65)\; font-family:open sans\,sans-serif\; font-size:14px">The Naya Rockers are a backing band anchored by US-based drummer Nathan Sabanayagam. Naya Rockers have spent the past two decades touring and recording with the foundation of reggae\, including Stephen Marley\, Clinton Fearon\, Kiddus I\, and Barrington Levy.</span><br />\n<br />\n<span style="color:rgb(64\, 64\, 65)\; font-family:open sans\,sans-serif\; font-size:14px">ABOUT UNDERTONE</span><br />\n<span style="color:rgb(64\, 64\, 65)\; font-family:open sans\,sans-serif\; font-size:14px">UNDERTONE Benefit by the Sea is a series of music events that convene cultural influencers\, organizations\, community leaders\, and citizens who are making a positive impact.&nbsp\;</span><br />\n<br />\n<span style="color:rgb(64\, 64\, 65)\; font-family:open sans\,sans-serif\; font-size:14px">ABOUT STRATLEADE</span><br />\n<span style="color:rgb(64\, 64\, 65)\; font-family:open sans\,sans-serif\; font-size:14px">A Tax Deductible 501c3 with a 15-year track record providing educational grants supporting the development of sustainability leaders on a global scale with a curriculum and education built on principles of systems thinking\, transformational change\, and critical decision-making. StratLeade&acute\;s Educational Grant program supports training for promising sustainability leaders coming from underserved and under represented regions.</span>
LOCATION:The Cut 177 Main Street Gloucester\, MA 01930
UID:e.2981.33006
SEQUENCE:3
DTSTAMP:20260424T141258Z
URL:https://business.capeannchamber.com/events/details/undertone-benefit-by-the-sea-featuring-clinton-fearon-with-the-naya-rockers-33006
END:VEVENT

END:VCALENDAR
