BEGIN:VCALENDAR
VERSION:2.0
PRODID:-//ChamberMaster//Event Calendar 2.0//EN
METHOD:PUBLISH
X-PUBLISHED-TTL:P3D
REFRESH-INTERVAL:P3D
CALSCALE:GREGORIAN
BEGIN:VEVENT
DTSTART:20250119T200000Z
DTEND:20250119T220000Z
X-MICROSOFT-CDO-ALLDAYEVENT:FALSE
SUMMARY:Trio Bohémo
DESCRIPTION:Winners of the Parkhouse Award\, Joseph Haydn Chamber Music Competition and the Johannes Brahms Competition\, the Trio Boh mo are known to bring "precision\, dedication and a spark of magic" (G ttingen review) to their performances. Enjoy an all-Czech program featuring Dvorak's "Dumky" trio.
X-ALT-DESC;FMTTYPE=text/html:<span style="background-color:rgb(250\, 250\, 250)\; color:rgb(0\, 0\, 0)\; font-family:open sans\,helvetica neue\,helvetica\,arial\,sans-serif\; font-size:18px">Winners of the Parkhouse Award\, Joseph Haydn Chamber Music Competition and the Johannes Brahms Competition\, the Trio Boh&eacute\;mo are known to bring &ldquo\;precision\, dedication and a spark of magic&rdquo\; (G&ouml\;ttingen review) to their performances. Enjoy&nbsp\;an all-Czech program featuring Dvorak&rsquo\;s &ldquo\;Dumky&rdquo\; trio.</span>
LOCATION:37 Main St\, Rockport\, MA 01966
UID:e.2981.34253
SEQUENCE:3
DTSTAMP:20260424T164410Z
URL:https://business.capeannchamber.com/events/details/trio-boh&#233;mo-34253
END:VEVENT

END:VCALENDAR
