BEGIN:VCALENDAR
VERSION:2.0
PRODID:-//ChamberMaster//Event Calendar 2.0//EN
METHOD:PUBLISH
X-PUBLISHED-TTL:P3D
REFRESH-INTERVAL:P3D
CALSCALE:GREGORIAN
BEGIN:VEVENT
DTSTART:20140801T140000Z
DTEND:20140901T210000Z
X-MICROSOFT-CDO-ALLDAYEVENT:FALSE
SUMMARY:Trident Gallery Presents Ruth Mordecai's New Works on Paper
DESCRIPTION:Trident Gallery is pleased to present an exhibition of new paintings\, collages\, and monotypes on paper by Ruth Mordecai.  The gallery will host a public reception for the artist on Saturday\, August 9\, 5–7pm.  The artist will be at Trident Gallery for conversation Saturday\, August 2\, 5–7pm\, and will lead a discussion of her work on Sunday\, August 17\, 5–6pm.
X-ALT-DESC;FMTTYPE=text/html:Trident Gallery is pleased to present an exhibition of new paintings\, collages\, and monotypes on paper by Ruth Mordecai.  The gallery will host a public reception for the artist on Saturday\, August 9\, 5–7pm.  The artist will be at Trident Gallery for conversation Saturday\, August 2\, 5–7pm\, and will lead a discussion of her work on Sunday\, August 17\, 5–6pm.
LOCATION:189 Main Street\, Gloucester\, MA 01930 Trident Gallery is in downtown Gloucester\, Massachusetts\, on Main Street at the corner of Duncan Street (which becomes Pleasant Street as it crosses Main).
UID:e.2981.1445
SEQUENCE:3
DTSTAMP:20260419T123427Z
URL:https://business.capeannchamber.com/events/details/trident-gallery-presents-ruth-mordecai-s-new-works-on-paper-08-01-2014-1445
END:VEVENT

END:VCALENDAR
