BEGIN:VCALENDAR
VERSION:2.0
PRODID:-//ChamberMaster//Event Calendar 2.0//EN
METHOD:PUBLISH
X-PUBLISHED-TTL:P3D
REFRESH-INTERVAL:P3D
CALSCALE:GREGORIAN
BEGIN:VEVENT
DTSTART:20221027T193000Z
DTEND:20221027T220000Z
X-MICROSOFT-CDO-ALLDAYEVENT:FALSE
SUMMARY:Trick or Treat at Hammond Castle Museum
DESCRIPTION:What better place to trick or treat than at an old seaside castle? We have everything you need to ignite your child's imagination: a drawbridge\, spiral staircase\, and a Great Hall We will have spooky music\, multiple trick or treat stations inside the castle and bubbles\, snacks\, and a craft at the 13th Century arches. You bring the scary costumes. Timed Trick or Treat sessions will last approximately 15 minutes with five treat stations set up within the Castle starting on our drawbridge and leading into the Great Hall. The program will conclude with bubbles\, a craft and snacks outside at the Arches.
X-ALT-DESC;FMTTYPE=text/html:<span style="background-color:rgb(255\, 255\, 255)\; font-family:open sans\,sans-serif\; font-size:13px">What better place to trick or treat than at an old seaside castle? We have everything you need to ignite your child&rsquo\;s imagination: a drawbridge\, spiral staircase\,&nbsp\;and a Great Hall We will have spooky music\, multiple trick or treat stations inside the castle and bubbles\, snacks\, and a craft at the 13th Century arches. You bring the scary costumes. Timed Trick or Treat sessions will last approximately 15 minutes with five treat stations set up within the Castle starting on our drawbridge and leading into the Great Hall. The program will conclude with bubbles\, a craft and snacks outside at the Arches.&nbsp\;</span>\n<div><span style="background-color:rgb(255\, 255\, 255)\; font-family:open sans\,sans-serif\; font-size:13px">&nbsp\;</span></div>\n
LOCATION:Hammond Castle Museum 80 Hesperus Avenue Gloucester\, MA
UID:e.2981.23154
SEQUENCE:3
DTSTAMP:20260424T141049Z
URL:https://business.capeannchamber.com/events/details/trick-or-treat-at-hammond-castle-museum-23154
END:VEVENT

END:VCALENDAR
