BEGIN:VCALENDAR
VERSION:2.0
PRODID:-//ChamberMaster//Event Calendar 2.0//EN
METHOD:PUBLISH
X-PUBLISHED-TTL:P3D
REFRESH-INTERVAL:P3D
CALSCALE:GREGORIAN
BEGIN:VEVENT
DTSTART:20140731T220000Z
DTEND:20140801T000000Z
X-MICROSOFT-CDO-ALLDAYEVENT:FALSE
SUMMARY:Tribute to Tradition: Artists Who Serve
DESCRIPTION:Opening of a "Tribute" Exhibition honoring 8 multi-award winning artist members for their longtime service\nin building and sustaining the growth of the North Shore Arts Association.  Open and free to the public.
X-ALT-DESC;FMTTYPE=text/html:Opening of a "Tribute" Exhibition honoring 8 multi-award winning artist members for their longtime service\nin building and sustaining the growth of the North Shore Arts Association.  Open and free to the public.
LOCATION:11 Pirates Lane\, Gloucester\, MS\, MA 01966 11 Pirates Lane\, Gloucester\, MA 01930
UID:e.2981.1462
SEQUENCE:3
DTSTAMP:20260419T155217Z
URL:https://business.capeannchamber.com/events/details/tribute-to-tradition-artists-who-serve-07-31-2014-1462
END:VEVENT

END:VCALENDAR
