BEGIN:VCALENDAR
VERSION:2.0
PRODID:-//ChamberMaster//Event Calendar 2.0//EN
METHOD:PUBLISH
X-PUBLISHED-TTL:P3D
REFRESH-INTERVAL:P3D
CALSCALE:GREGORIAN
BEGIN:VEVENT
DTSTART:20251003T233000Z
DTEND:20251004T020000Z
X-MICROSOFT-CDO-ALLDAYEVENT:FALSE
SUMMARY:Tret Fure - Nora Meier opens
DESCRIPTION:Beloved singer-songwriter Tret Fure will appear at the Old Sloop Presents performing arts series Friday\, October 3.  Nova Scotian Erika Kulnys will open the show.\n\nAt age 19\, Tret Fure moved from her native Midwest to LA in hopes of obtaining a record deal. Within a year she was performing as guitarist and vocalist for Spencer Davis\, touring with him and penning the single for his album Mousetrap. She went on to record her own album Tret Fure in 1973\, on MCA/UNI Records\, with the late Lowell George of Little Feat as her producer. Fure has released 18 albums and CDs over the course of her 51-year career. Fure has engineered and produced countless recordings by a variety of artists\, including her own work\, and she has recorded with and produced some of the best of women's music.\n\nNora Meier is a diehard music fan\, a frequent moviegoer\, a daughter of two English majors\, an Oregonian at heart\, a verbal processor\, a big reader\, extremely stubborn\, and always writing. Her debut album Outfield was born on a farm in Connecticut with the help of some of her favorite musicians. Eleven songs were tracked in seven days\, interspersed by basketball scrimmages\, deli trips and walks around a big field.
X-ALT-DESC;FMTTYPE=text/html:<span style="font-family:times new roman\,serif"><span style="font-size:12.0pt">Beloved singer-songwriter <a href="https://tretfure.com" target="_blank">Tret Fure</a> will appear at the Old Sloop Presents performing arts series Friday\, October 3. &nbsp\;Nova Scotian <a href="https://erikakulnys.com" target="_blank">Erika Kulnys</a> will open the show.</span></span><br />\n<span style="font-family:times new roman\,serif"><span style="font-size:12.0pt">At age 19\, Tret Fure moved from her native Midwest to LA in hopes of obtaining a record deal. Within a year she was performing as guitarist and vocalist for Spencer Davis\, touring with him and penning the single for his album Mousetrap. She went on to record her own album Tret Fure in 1973\, on MCA/UNI Records\, with the late Lowell George of Little Feat as her producer. Fure has released 18 albums and CDs over the course of her 51-year career. Fure has engineered and produced countless recordings by a variety of artists\, including her own work\, and she has recorded with and produced some of the best of women&rsquo\;s music.<br />\nNora Meier is a diehard music fan\, a frequent moviegoer\, a daughter of two English majors\, an Oregonian at heart\, a verbal processor\, a big reader\, extremely stubborn\, and always writing. Her debut album Outfield was born on a farm in Connecticut with the help of some of her favorite musicians. Eleven songs were tracked in seven days\, interspersed by basketball scrimmages\, deli trips and walks around a big field.</span></span><br />\n&nbsp\;
LOCATION:Old Sloop Presents First Congregational Cburch of Rockport 12 School St Rockport\, MA 01966
UID:e.2981.43018
SEQUENCE:3
DTSTAMP:20260425T024125Z
URL:https://business.capeannchamber.com/events/details/tret-fure-erika-kulnys-opens-43018
END:VEVENT

END:VCALENDAR
