BEGIN:VCALENDAR
VERSION:2.0
PRODID:-//ChamberMaster//Event Calendar 2.0//EN
METHOD:PUBLISH
X-PUBLISHED-TTL:P3D
REFRESH-INTERVAL:P3D
CALSCALE:GREGORIAN
BEGIN:VEVENT
DTSTART:20241215T170000Z
DTEND:20241215T200000Z
X-MICROSOFT-CDO-ALLDAYEVENT:FALSE
SUMMARY:Traditional Irish Music With Noah Kelly Live at The James Pub
DESCRIPTION:Take a break from holiday shopping and join us at The James Pub in Essex\, MA\, on Saturday\, December 15th from 12-3 PM for a delicious meal and traditional Irish music from Noah Kelly! Relax\, unwind\, and enjoy the festive atmosphere with great food and live tunes.
X-ALT-DESC;FMTTYPE=text/html:<div><span style="color:#006400\;"><span style="font-size:14px\;"><span style="font-family:arial\;">Take a break from holiday shopping and join us at The James Pub in Essex\, MA\, on Saturday\, December 15th from 12-3 PM for a delicious meal and traditional Irish music from Noah Kelly! Relax\, unwind\, and enjoy the festive atmosphere with great food and live tunes.</span></span></span></div>\n<br />\n&nbsp\;
LOCATION:The James Pub 55 Main Street Essex\, MA 01929
UID:e.2981.34247
SEQUENCE:3
DTSTAMP:20260424T141237Z
URL:https://business.capeannchamber.com/events/details/traditional-irish-music-with-noah-kelly-live-at-the-james-pub-34247
END:VEVENT

END:VCALENDAR
