BEGIN:VCALENDAR
VERSION:2.0
PRODID:-//ChamberMaster//Event Calendar 2.0//EN
METHOD:PUBLISH
X-PUBLISHED-TTL:P3D
REFRESH-INTERVAL:P3D
CALSCALE:GREGORIAN
BEGIN:VEVENT
DTSTART:20140515T213000Z
DTEND:20140516T000000Z
X-MICROSOFT-CDO-ALLDAYEVENT:FALSE
SUMMARY:Tourism Collaborative 2014
DESCRIPTION:An addition to our annual Spring Mixer\, the Tourism Collaborative is an opportunity to learn about the mission of each of the partici-pating groups as it relates to tourism in our region. Find out what their goals and initiatives are for 2014\, what materials they produce and who the movers and shakers are within each group. Mingle with your colleagues in the Tourism Industry as we raise a glass to the 2014 season. Please feel free to bring your printed materials for distribution at this event.
X-ALT-DESC;FMTTYPE=text/html:<p>&nbsp\;</p>\n\n<p>&nbsp\;</p>\n\n<p>&nbsp\;</p>\n\n<p><strong><span style="font-size:x-large\;">An addition to our annual Spring Mixer\, the Tourism Collaborative is an opportunity to learn about the mission of each of the partici-pating groups as it relates to tourism in our region. Find out what their goals and initiatives are for 2014\, what materials they produce and who the movers and shakers are within each group. Mingle with your colleagues in the Tourism Industry as we raise a glass to the 2014 season. Please feel free to bring your printed materials for distribution at this event. </span></strong></p>\n
LOCATION:Gloucester House Restaurant 63 Rogers Street\, Gloucester\, MA 01930
UID:e.2981.1309
SEQUENCE:3
DTSTAMP:20260419T193955Z
URL:https://business.capeannchamber.com/events/details/tourism-collaborative-2014-1309
END:VEVENT

END:VCALENDAR
