BEGIN:VCALENDAR
VERSION:2.0
PRODID:-//ChamberMaster//Event Calendar 2.0//EN
METHOD:PUBLISH
X-PUBLISHED-TTL:P3D
REFRESH-INTERVAL:P3D
CALSCALE:GREGORIAN
BEGIN:VEVENT
DTSTART:20250808T233000Z
DTEND:20250809T013000Z
X-MICROSOFT-CDO-ALLDAYEVENT:FALSE
SUMMARY:Tom Rush
DESCRIPTION:Celebrating five decades of touring\, Tom Rush has been thrilling audiences here and abroad with hits like "No Regrets\," "Circle Game\," "Remember Song\," "Urge for Going" and\, of course\, "Rockport Sunday." He returns this summer with singer/songwriter Matt Nakoa.
X-ALT-DESC;FMTTYPE=text/html:<p><span style="color:rgb(0\, 0\, 0)\; font-family:open sans\,arial\,helvetica\,sans-serif\; font-size:16px">Celebrating five decades of touring\, Tom Rush has been thrilling audiences here and abroad with hits like &ldquo\;No Regrets\,&rdquo\; &ldquo\;Circle Game\,&rdquo\; &ldquo\;Remember Song\,&rdquo\; &ldquo\;Urge for Going&rdquo\; and\, of course\, &ldquo\;Rockport Sunday.&rdquo\; He returns this summer with singer/songwriter Matt Nakoa.</span></p>\n
LOCATION:37 Main St\, Rockport\, MA 01966
UID:e.2981.36767
SEQUENCE:3
DTSTAMP:20260424T235028Z
URL:https://business.capeannchamber.com/events/details/tom-rush-08-08-2025-36767
END:VEVENT

END:VCALENDAR
