BEGIN:VCALENDAR
VERSION:2.0
PRODID:-//ChamberMaster//Event Calendar 2.0//EN
METHOD:PUBLISH
X-PUBLISHED-TTL:P3D
REFRESH-INTERVAL:P3D
CALSCALE:GREGORIAN
BEGIN:VEVENT
DTSTART:20211021T230000Z
DTEND:20211022T010000Z
X-MICROSOFT-CDO-ALLDAYEVENT:FALSE
SUMMARY:Thursday Evening Spiritualism Tours At Hammond Castle Museum
DESCRIPTION:The American Spiritualism Movement enthralled America's upper and middle class during the late 19th and early 20th centuries   John Hays Hammond Jr. and his wife Irene included. Both Hammonds took an active role in the movement\, contributing to the body of work vastly in different ways. In honor of their involvement and interest in psychic capabilities\, we offer the Spiritualism Tour.\n\nThese special tours delve into the history of the American Spiritualism Movement and the culture that formed around it\, as well as the contributions of both Hammonds. We will discuss cultural phenomenons such as spirit photography and s ances as well as the more scientific aspects of the movement such as Hammond's research in ESP. \n\nAdvanced reservations are required.
X-ALT-DESC;FMTTYPE=text/html:<p>The American Spiritualism Movement enthralled America&rsquo\;s upper and middle class during the late 19th and early 20th centuries &ndash\; John Hays Hammond Jr. and his wife Irene included. Both Hammonds took an active role in the movement\, contributing to the body of work vastly in different ways. In honor of their involvement and interest in psychic capabilities\, we offer the Spiritualism Tour.</p>\n\n<p>These special tours delve into the history of the American Spiritualism Movement and the culture that formed around it\, as well as the contributions of both Hammonds. We will discuss cultural phenomenons such as spirit photography and&nbsp\;s&eacute\;ances&nbsp\;as well as the more scientific aspects of the movement such as Hammond&rsquo\;s research in ESP.&nbsp\;</p>\n\n<p><strong>Advanced reservations are required.</strong></p>\n
LOCATION:Hammond Castle Museum 80 Hesperus Avenue Gloucester\, MA 01930
UID:e.2981.21329
SEQUENCE:3
DTSTAMP:20260424T111216Z
URL:https://business.capeannchamber.com/events/details/thursday-evening-spiritualism-tours-at-hammond-castle-museum-10-21-2021-21329
END:VEVENT

END:VCALENDAR
