BEGIN:VCALENDAR
VERSION:2.0
PRODID:-//ChamberMaster//Event Calendar 2.0//EN
METHOD:PUBLISH
X-PUBLISHED-TTL:P3D
REFRESH-INTERVAL:P3D
CALSCALE:GREGORIAN
BEGIN:VEVENT
DTSTART:20250719T040000Z
DTEND:20250817T040000Z
X-MICROSOFT-CDO-ALLDAYEVENT:FALSE
SUMMARY:Third Summer Show: Art & Written The Written Word - Juried Artist Members - Rockport Art Association & Museum
DESCRIPTION:Third Summer Show: Art & The Written Word - Juried Artist Members\n\nJuly 19 - August 17\, 2025\n\nHibbard & Maddocks Galleries\n\nReception: Thursday\, July 24\, 2025\, 6:00 - 8:00 PM
X-ALT-DESC;FMTTYPE=text/html:Third Summer Show: Art &amp\; The Written Word - Juried Artist Members<br />\nJuly 19 - August 17\, 2025<br />\nHibbard &amp\; Maddocks Galleries<br />\n<strong>Reception: Thursday\, July 24\, 2025\, 6:00 - 8:00 PM</strong>
LOCATION:Rockport Art Association & Museum 12 Main Street Rockport\, MA 01966
UID:e.2981.37454
SEQUENCE:3
DTSTAMP:20260425T001104Z
URL:https://business.capeannchamber.com/events/details/third-summer-show-art-written-the-written-word-juried-artist-members-rockport-art-association-museum-37454
END:VEVENT

END:VCALENDAR
