BEGIN:VCALENDAR
VERSION:2.0
PRODID:-//ChamberMaster//Event Calendar 2.0//EN
METHOD:PUBLISH
X-PUBLISHED-TTL:P3D
REFRESH-INTERVAL:P3D
CALSCALE:GREGORIAN
BEGIN:VEVENT
DTSTART:20250908T210000Z
DTEND:20250908T230000Z
X-MICROSOFT-CDO-ALLDAYEVENT:FALSE
SUMMARY:The Times of Harvey Milk\, Free Movie Screening
DESCRIPTION:Cape Ann Pride screening of The Times of Harvey Milk\na documentary chronicling the life of Harvey Milk\, San Francisco's first openly gay mayor.\n\n\n\nA truly great documentary\, The Times of Harvey Milk (1984) has exceeded its original category with the passage of time. It is now an archive\, a political case study\, urban geography\, melodrama\, and cathartic expiation\, and has inspired both an opera and a theatrical feature\, Gus Van Sant's Milk (2008). The Times of Harvey Milk is a dazzling exemplar of that defunct technology 16 mm celluloid\, the predigital choice for all alternative documentary and feature movements in America. With its astute roundup of news clips\, archival materials\, and original footage\, and careful casting of veterans of the era for context\, all orchestrated to capture the emotions of such signal events as the candlelight procession on the night of the assassinations and the White Night riots on the day of the verdicts\, The Times of Harvey Milk has become a film that defies any expiration date. It is the rare documentary that speaks to our time\, its own\, and the intervening years with equal fluency.
X-ALT-DESC;FMTTYPE=text/html:<span style="font-size:14px\;"><strong>&nbsp\;</strong></span>\n<h2 style="margin: 0px\; padding: 0px\; box-sizing: border-box\; font-size: 1.25em\; font-family: georgia\, serif\; line-height: 1.5\; color: rgb(0\, 0\, 0)\;"><span style="font-size:18px\;"><strong>Cape Ann Pride screening of The Times of Harvey Milk</strong></span></h2>\n<span style="color: rgb(0\, 0\, 0)\; font-family: georgia\; font-size: 16px\;">a documentary chronicling the life of Harvey Milk\, San Francisco&#39\;s first openly gay mayor.</span><br />\n<br />\n<span style="color: rgb(38\, 62\, 15)\; font-family: MercuryTextG1Regular\; font-size: 18px\; letter-spacing: -0.3px\;">A truly great documentary\,</span><i style="color: rgb(38\, 62\, 15)\; background: none\; box-sizing: inherit\; margin: 0px\; padding: 0px\; border: 0px\; outline: 0px\; font-size: 18px\; vertical-align: baseline\; font-family: MercuryTextG1Italic\; letter-spacing: -0.3px\;">&nbsp\;The Times of Harvey Milk&nbsp\;</i><span style="color: rgb(38\, 62\, 15)\; font-family: MercuryTextG1Regular\; font-size: 18px\; letter-spacing: -0.3px\;">(1984) has exceeded its original category with the passage of time. It is now an archive\, a political case study\, urban geography\, melodrama\, and cathartic expiation\, and has inspired both an opera and a theatrical feature\, Gus Van Sant&rsquo\;s&nbsp\;</span><i style="color: rgb(38\, 62\, 15)\; background: none\; box-sizing: inherit\; margin: 0px\; padding: 0px\; border: 0px\; outline: 0px\; font-size: 18px\; vertical-align: baseline\; font-family: MercuryTextG1Italic\; letter-spacing: -0.3px\;">Milk</i><span style="color: rgb(38\, 62\, 15)\; font-family: MercuryTextG1Regular\; font-size: 18px\; letter-spacing: -0.3px\;">&nbsp\;(2008).&nbsp\;</span><i style="color: rgb(38\, 62\, 15)\; background: none\; box-sizing: inherit\; margin: 0px\; padding: 0px\; border: 0px\; outline: 0px\; font-size: 18px\; vertical-align: baseline\; font-family: MercuryTextG1Italic\; letter-spacing: -0.3px\;">The Times of Harvey Milk</i><span style="color: rgb(38\, 62\, 15)\; font-family: MercuryTextG1Regular\; font-size: 18px\; letter-spacing: -0.3px\;">&nbsp\;is a dazzling exemplar of that defunct technology 16 mm celluloid\, the predigital choice for all alternative documentary and feature movements in America. With its astute roundup of news clips\, archival materials\, and original footage\, and careful casting of veterans of the era for context\, all orchestrated to capture the emotions of such signal events as the candlelight procession on the night of the assassinations and the White Night riots on the day of the verdicts\,&nbsp\;</span><i style="color: rgb(38\, 62\, 15)\; background: none\; box-sizing: inherit\; margin: 0px\; padding: 0px\; border: 0px\; outline: 0px\; font-size: 18px\; vertical-align: baseline\; font-family: MercuryTextG1Italic\; letter-spacing: -0.3px\;">The Times of Harvey Milk&nbsp\;</i><span style="color: rgb(38\, 62\, 15)\; font-family: MercuryTextG1Regular\; font-size: 18px\; letter-spacing: -0.3px\;">has become a film that defies any expiration date. It is the rare documentary that speaks to our time\, its own\, and the intervening years with equal fluency.</span>
LOCATION:Rockport Public Library Brenner Room
UID:e.2981.43008
SEQUENCE:3
DTSTAMP:20260425T011713Z
URL:https://business.capeannchamber.com/events/details/the-times-of-harvey-milk-free-movie-screening-43008
END:VEVENT

END:VCALENDAR
